BEGIN:VCALENDAR
VERSION:2.0
PRODID:-//Faridabad Management Association - ECPv6.11.2//NONSGML v1.0//EN
CALSCALE:GREGORIAN
METHOD:PUBLISH
X-WR-CALNAME:Faridabad Management Association
X-ORIGINAL-URL:https://fmafaridabad.com
X-WR-CALDESC:Events for Faridabad Management Association
REFRESH-INTERVAL;VALUE=DURATION:PT1H
X-Robots-Tag:noindex
X-PUBLISHED-TTL:PT1H
BEGIN:VTIMEZONE
TZID:Asia/Kolkata
BEGIN:STANDARD
TZOFFSETFROM:+0530
TZOFFSETTO:+0530
TZNAME:IST
DTSTART:20210101T000000
END:STANDARD
END:VTIMEZONE
BEGIN:VEVENT
DTSTART;TZID=Asia/Kolkata:20231217T080000
DTEND;TZID=Asia/Kolkata:20231217T170000
DTSTAMP:20260424T034655
CREATED:20240508T053118Z
LAST-MODIFIED:20240508T053753Z
UID:2667-1702800000-1702832400@fmafaridabad.com
SUMMARY:Management Lessons from Mahabharat
DESCRIPTION:Dear \nAll\, Faridabad Management Association is pleased to invite you all to the upcoming Virtual Speaker session – *”Management Lessons from Mahabharat”* *Episode 7* with special focus on *”Team Dynamics in Corporate Kurukshetra”* to be held on \n🗓️ 17 Dec\, Sunday\n⏰ 5:00 – 6:00 pm \n🎤 Our Guest Speaker is a visionary leader with a deep understanding of ancient wisdom and its application in the contemporary business world – *Sh. Debasis Satapathy\, Chief General Manager – HR\, NBCC (India) Ltd.* \n*Join Zoom Meeting*\nhttps://lnkd.in/gFfY74bv \nMeeting ID: 842 7537 2926\nPasscode: 433153 \nRegister at https://bit.ly/FMAReg
URL:https://fmafaridabad.com/event/management-lessons-from-mahabharat/
CATEGORIES:Virtual Webinar
ATTACH;FMTTYPE=image/webp:https://fmafaridabad.com/wp-content/uploads/2024/05/1702407155642.webp
END:VEVENT
BEGIN:VEVENT
DTSTART;TZID=Asia/Kolkata:20231208T160000
DTEND;TZID=Asia/Kolkata:20231208T173000
DTSTAMP:20260424T034655
CREATED:20240518T060234Z
LAST-MODIFIED:20240521T040214Z
UID:3075-1702051200-1702056600@fmafaridabad.com
SUMMARY:Faridabad Management Association (AIMA) organised a unique webinar on Demystifying ESOPs !
DESCRIPTION:Earlier this month\, Faridabad Management Association (AIMA) organised a unique webinar on Demystifying ESOPs ! \nESOPs offer a unique way for organisations and employees to share in a company’s success. Organisations can use ESOPs to incentivize and reward their employees while also maintaining a solid equity structure. \nBy understanding how they work and their taxation\, both organisations and employees can make informed decisions about exercising their options. \nThank you Ashna Kakar for an awesome session on this topic and demystifying and clarifying several questions raised by the audience! \n 
URL:https://fmafaridabad.com/event/faridabad-management-association-aima-organised-a-unique-webinar-on-demystifying-esops/
CATEGORIES:Virtual Webinar
ATTACH;FMTTYPE=image/webp:https://fmafaridabad.com/wp-content/uploads/2024/05/1702661505068.webp
END:VEVENT
BEGIN:VEVENT
DTSTART;TZID=Asia/Kolkata:20231125T153000
DTEND;TZID=Asia/Kolkata:20231125T173000
DTSTAMP:20260424T034655
CREATED:20240521T044342Z
LAST-MODIFIED:20240521T044342Z
UID:3476-1700926200-1700933400@fmafaridabad.com
SUMMARY:"AROGYATA" Stress Handling Techniques
DESCRIPTION:Faridabad Management Association\nInvites You To\n“AROGYATA”\nStress Handling Techniques \nGuest Speakers\nDr. Varun Pratap Singh \nMpt Orthopaedic\nOsteopath And Shoulder Expert\nDr. Anshu Mala Mpt\nNeurology\nDry Needling And\nPelvic Floor Rehab Specialist \nSession Details \nSaturday\, 25th Nov 2023\n3.30 5.30 PM\nTraining Hall\, Imperial Auto Industries\, Sector-27\, NHPC Chowk
URL:https://fmafaridabad.com/event/arogyata-stress-handling-techniques/
CATEGORIES:Virtual Webinar
ATTACH;FMTTYPE=image/webp:https://fmafaridabad.com/wp-content/uploads/2024/05/PHOTO-2023-11-17-21-45-42-2.webp
END:VEVENT
BEGIN:VEVENT
DTSTART;TZID=Asia/Kolkata:20231124T160000
DTEND;TZID=Asia/Kolkata:20231124T173000
DTSTAMP:20260424T034655
CREATED:20240521T044728Z
LAST-MODIFIED:20240521T044737Z
UID:3479-1700841600-1700847000@fmafaridabad.com
SUMMARY:Unlocking Strategic Success Through OKRS
DESCRIPTION:Faridabad Management Association Is Pleased To Invite You To A Panel Discussion On\nUnlocking Strategic Success Through Okrs \nFriday\, 24th Nov ’23 \n4 PM 5.30 PM \n 
URL:https://fmafaridabad.com/event/unlocking-strategic-success-through-okrs/
CATEGORIES:Virtual Webinar
ATTACH;FMTTYPE=image/webp:https://fmafaridabad.com/wp-content/uploads/2024/05/PHOTO-2023-11-24-15-00-51.webp
END:VEVENT
BEGIN:VEVENT
DTSTART;TZID=Asia/Kolkata:20231104T100000
DTEND;TZID=Asia/Kolkata:20231105T130000
DTSTAMP:20260424T034655
CREATED:20240521T043649Z
LAST-MODIFIED:20240521T043858Z
UID:3466-1699092000-1699189200@fmafaridabad.com
SUMMARY:Content Writing Workshop
DESCRIPTION:4-5th Nov 23\n10-1pm\nANUPAMA GARG\nCOMMUNICATIONS STRATEGIST\nThis is a short and introductory program on content writing basics\, designed to get young professionals started in their business writing careers. Entrepreneurs and managers may find this useful in communicating effectively with interns\, freelancers\, junior writers\, and teams.\nThe workshop will cover:  \nWhy\, What\, How & When to write How to plan and write a piece of content.\nUnderstanding content writing as a domain. Earning through content writing. How to create a portfolio? How to find gigs and jobs? Is chatGPT really a threat? How to befriend it?\nBonus: A book of 52 prompts to practice.\nComplimentary for FMA Members Non members – 500/- per head\nRegister Now\nFor more information +91 8882326117 \n 
URL:https://fmafaridabad.com/event/content-writing-workshop/
CATEGORIES:Virtual Webinar
ATTACH;FMTTYPE=image/webp:https://fmafaridabad.com/wp-content/uploads/2024/05/PHOTO-2023-11-01-23-32-34.webp
END:VEVENT
BEGIN:VEVENT
DTSTART;TZID=Asia/Kolkata:20231021T163000
DTEND;TZID=Asia/Kolkata:20231021T173000
DTSTAMP:20260424T034655
CREATED:20240522T042000Z
LAST-MODIFIED:20240522T042000Z
UID:3507-1697905800-1697909400@fmafaridabad.com
SUMMARY:"Management Lessons from Mahabharat" Episode 5 - Art of Delegation
DESCRIPTION:Faridabad Management Association invites you to a Speaker Session on\n“Management Lessons from Mahabharat” Episode 5\nArt of Delegation \nSaturday\, 21 Oct 2023\n4:30 – 5:30 pm\nZOOM\nMeeting ID: 810 4504 8100\nPasscode: 270517 \nGuest Speaker\nDebasis Satapathy\nGeneral manager\nGeneral Manager – HR NBCC NBCC (INDIA) LIMITED
URL:https://fmafaridabad.com/event/management-lessons-from-mahabharat-episode-5-art-of-delegation/
CATEGORIES:Virtual Webinar
ATTACH;FMTTYPE=image/webp:https://fmafaridabad.com/wp-content/uploads/2024/05/PHOTO-2023-10-17-20-33-28.webp
END:VEVENT
BEGIN:VEVENT
DTSTART;TZID=Asia/Kolkata:20230930T180000
DTEND;TZID=Asia/Kolkata:20230930T190000
DTSTAMP:20260424T034655
CREATED:20240522T040548Z
LAST-MODIFIED:20240522T040554Z
UID:3501-1696096800-1696100400@fmafaridabad.com
SUMMARY:Management Lessons from Mahabharat -Episode - 4
DESCRIPTION:Dear All\, Faridabad Management Association is pleased to invite you all to the upcoming Virtual Speaker session – *”Management Lessons from Mahabharat“* with special focus on *”Coaching and Mentoring by Iconic Leadership“* to be held on \n🗓️ 30 Sep\, Saturday\n⏰ 6 – 7 pm \n🎤 Our Guest Speaker is a visionary leader with a deep understanding of ancient wisdom and its application in the contemporary business world – *Sh. Debasis Satapathy\, General Manager – HR\, NBCC (India) Ltd.* \nJoin Zoom Meeting\nhttps://lnkd.in/dyFNhCin \nMeeting ID: 870 3290 8525\nPasscode: 615191 \nRegistration is mandatory – https://bit.ly/FMAReg
URL:https://fmafaridabad.com/event/management-lessons-from-mahabharat-episode-4/
CATEGORIES:Virtual Webinar
ATTACH;FMTTYPE=image/webp:https://fmafaridabad.com/wp-content/uploads/2024/05/PHOTO-2023-09-30-09-27-27.webp
END:VEVENT
BEGIN:VEVENT
DTSTART;TZID=Asia/Kolkata:20230827T160000
DTEND;TZID=Asia/Kolkata:20230827T171500
DTSTAMP:20260424T034655
CREATED:20240522T041305Z
LAST-MODIFIED:20240522T041344Z
UID:3504-1693152000-1693156500@fmafaridabad.com
SUMMARY:"Management Lessons from Mahabharat" - Episode 3 Competencies of Key Mahabharat Characters
DESCRIPTION:Faridabad Management Association invites you to a session on \n“Management Lessons from Mahabharat” Episode 3\nCompetencies of Key Mahabharata Characters \nSunday\, 27 Aug 2023 4- 5:15 pm \nZOOM Meeting ID: 861 70347400 \nPasscode: FMA \nGuest Speaker\nDebasis Satapathy\nGeneral manager\nGeneral Manager – HR NBCC NBCC (INDIA) LIMITED
URL:https://fmafaridabad.com/event/management-lessons-from-mahabharat-episode-3-competencies-of-key-mahabharat-characters/
CATEGORIES:Virtual Webinar
ATTACH;FMTTYPE=image/webp:https://fmafaridabad.com/wp-content/uploads/2024/05/PHOTO-2023-08-23-07-34-26.webp
END:VEVENT
BEGIN:VEVENT
DTSTART;TZID=Asia/Kolkata:20230722T160000
DTEND;TZID=Asia/Kolkata:20230722T170000
DTSTAMP:20260424T034655
CREATED:20240508T054149Z
LAST-MODIFIED:20240510T052922Z
UID:2673-1690041600-1690045200@fmafaridabad.com
SUMMARY:Management Lessons from Mahabharat Traditional to Transformational
DESCRIPTION:Dear All\, \nFaridabad Management Association with DLF Industries Association invites you to a Speaker Event on “Management Lessons from Mahabharat” Traditional to Transformational – Key attributes of Modern Management \n🗓️ Saturday\, 22 July\, 2023\n⏰ 4:00 – 5:15 pm \n🎤 Our Guest Speaker is a visionary leader with a deep understanding of ancient wisdom and its application in the contemporary business world –\n*Sh. Debasis Satapathy\,\nChief General Manager\n– HR\, NBCC (India) Ltd.* \nMeeting ID: 616 605 1516\nPasscode: abc123 \n 
URL:https://fmafaridabad.com/event/management-lessons-from-mahabharat-traditional-to-transformational/
CATEGORIES:Virtual Webinar
ATTACH;FMTTYPE=image/webp:https://fmafaridabad.com/wp-content/uploads/2024/05/Management-Lessons-from-Mahabharat.webp
END:VEVENT
BEGIN:VEVENT
DTSTART;TZID=Asia/Kolkata:20230505T160000
DTEND;TZID=Asia/Kolkata:20230505T170000
DTSTAMP:20260424T034655
CREATED:20240508T050049Z
LAST-MODIFIED:20240508T050049Z
UID:2652-1683302400-1683306000@fmafaridabad.com
SUMMARY:Kaushal Vriddhi From Boring To Exciting: Transforming Your Relationship With Money
DESCRIPTION:A lively enjoyable session\, designed for working women\, to enhance their knowledge of finance \nGuest of Honour\nRathandeep Umesh\nFounder\, Consulting And Beyond \nSession Details\nFriday\, 5th May 2023\, 4 – 5 PM
URL:https://fmafaridabad.com/event/kaushal-vriddhi-from-boring-to-exciting/
CATEGORIES:Virtual Webinar
ATTACH;FMTTYPE=image/webp:https://fmafaridabad.com/wp-content/uploads/2024/05/Fma-event-05May2023-KaushalVriddhi-RathandeepUmesh-1.webp
END:VEVENT
BEGIN:VEVENT
DTSTART;TZID=Asia/Kolkata:20230422T150000
DTEND;TZID=Asia/Kolkata:20230422T160000
DTSTAMP:20260424T034655
CREATED:20240508T043255Z
LAST-MODIFIED:20240510T054533Z
UID:2625-1682175600-1682179200@fmafaridabad.com
SUMMARY:"Business Enablement Program" Digitizing Operations Roadmap to profits and efficiency
DESCRIPTION:Digitization is the key to success in business and profitability. Digitization brings transparency\, increased efficiencies\, clear accountability\, rapid information sharing. problem solving and reduces rework or rejection. It also ensures resource optimization\, space savings with considerable reduction in paper\, printing and consumable costs. \nDigitisation Expert: Sanjay Dewan\nSession Details: Saturday\, 22nd April 2023\, 3-4 PM
URL:https://fmafaridabad.com/event/business-enablement-program-digitizing-operations-roadmap-to-profits-and-efficiency/
CATEGORIES:Virtual Webinar
ATTACH;FMTTYPE=image/webp:https://fmafaridabad.com/wp-content/uploads/2024/05/FMA-Invite-20232.webp
END:VEVENT
BEGIN:VEVENT
DTSTART;TZID=Asia/Kolkata:20230408T160000
DTEND;TZID=Asia/Kolkata:20230408T170000
DTSTAMP:20260424T034655
CREATED:20240508T041715Z
LAST-MODIFIED:20240509T052124Z
UID:2613-1680969600-1680973200@fmafaridabad.com
SUMMARY:"Kaushal Vriddhi" Listening Leaders
DESCRIPTION:Listening is an art that requires attention over talent\, spirit over ego and others over self….Dean Jackson Surprisingly\, one of the key tenets in the communication process\, listening\, is never taught. We may have learned that we need to let people speak without interrupting but taking turns talking does not truly denote listening.. \nListening is a key tool to be a great leader\, it allows us to forge a connection with other human beings. Listening is also the only way to learn from others about what we do not know. Listening is the most critical aspect of conflict management\, negotiations and above all respecting others. \nExecutive Coach: Surekha Poddar\nSession Details: Saturday\, 8th April 2023\, 4-5 PM
URL:https://fmafaridabad.com/event/kaushal-vriddhi-listening-leaders/
CATEGORIES:Virtual Webinar
ATTACH;FMTTYPE=image/webp:https://fmafaridabad.com/wp-content/uploads/2024/05/FMA-Invite-2023.webp
END:VEVENT
BEGIN:VEVENT
DTSTART;TZID=Asia/Kolkata:20230304T160000
DTEND;TZID=Asia/Kolkata:20230304T170000
DTSTAMP:20260424T034655
CREATED:20230306T062906Z
LAST-MODIFIED:20240419T050836Z
UID:956-1677945600-1677949200@fmafaridabad.com
SUMMARY:Secrets to a Slimmer\, Healthier & Younger Self
DESCRIPTION:Would You Like to Gift Yourself A Slimmer\, Healthier\, and Younger You? \nFaridabad Management Association is pleased to invite you to behold the journey of a fruitarian that helped her shed 21 kgs in 3 months\’ time. And this was not the only benefit outcome! \nSecrets to a Slimmer\, Healthier & Younger Self \nRegister and join us at the upcoming weekend special. Prior Registration is needed. https://forms.gle/ZEf1FfETCmnzG4ys5 \n📅 4th March\n⏰ 4 – 5 pm\n📍 Zoom \nAttend this powerful discussion to learn about- \n* What does it mean to be a Fruitarian ?\n* Is it meant for you?\n* What should one look out for\, before going for it?\n* How and when to start ?\n* Things to avoid\n* What challenges are expected and how to address them \nJoin Zoom Meeting\nhttps://us06web.zoom.us/j/81336751038?pwd=MytDOHlOdzQ0NjBxL0o1YTlrUjcvQT09
URL:https://fmafaridabad.com/event/secrets-to-a-slimmer-healthier-younger-self/
CATEGORIES:Seminar & Conference,Virtual Webinar
ATTACH;FMTTYPE=image/jpeg:https://fmafaridabad.com/wp-content/uploads/2023/03/Secrets-to-a-Slimmer-Healthier-Younger-Self.jpg
END:VEVENT
BEGIN:VEVENT
DTSTART;TZID=Asia/Kolkata:20230128T170000
DTEND;TZID=Asia/Kolkata:20230128T180000
DTSTAMP:20260424T034655
CREATED:20240524T135813Z
LAST-MODIFIED:20240524T171509Z
UID:3739-1674925200-1674928800@fmafaridabad.com
SUMMARY:"Kaushal Vriddhi" Declutter-to Manifest Your Best Year Ever
DESCRIPTION:Faridabad Management Association Invites You To “Kaushal Vriddhi” Declutter-To Manifest Your Best Year Ever\nOne of the most powerful and fastest ways to manifest more abundance into your life is by de- cluttering!\nDecluttering activates the law of attraction & to effortlessly attract something new into your life\, create some empty space.\nGet rid of everything in your life that no longer has its value that no longer serves you and. most importantly\, that is no longer aligned with your dreams and goals. \nSpeaker\nSaloni Kaul\nFounder\, It’s People President\, FMA \nSession Details\nSaturday\, 28th Jan 2023\, 5-6 PM
URL:https://fmafaridabad.com/event/kaushal-vriddhi-declutter-to-manifest-your-best-year-ever/
CATEGORIES:Virtual Webinar
ATTACH;FMTTYPE=image/jpeg:https://fmafaridabad.com/wp-content/uploads/2024/05/WhatsApp-Image-2024-05-24-at-6.44.55-PM.jpeg
END:VEVENT
BEGIN:VEVENT
DTSTART;TZID=Asia/Kolkata:20220909T160000
DTEND;TZID=Asia/Kolkata:20220909T170000
DTSTAMP:20260424T034655
CREATED:20220908T043729Z
LAST-MODIFIED:20240419T051635Z
UID:875-1662739200-1662742800@fmafaridabad.com
SUMMARY:Business Leadership with Values & Ethics
DESCRIPTION:A Panel Discussion on “Business Leadership with Values & Ethics” \n9 Sep 2022\, Friday @ 4 PM Venue: Hotel Park Plaza\, Sec – 21C\, Faridabad \n  \n 
URL:https://fmafaridabad.com/event/business-leadership-with-values-ethics/
CATEGORIES:Seminar & Conference,Virtual Webinar
ATTACH;FMTTYPE=image/jpeg:https://fmafaridabad.com/wp-content/uploads/2022/09/Business-Leadership-with-Values-Ethics.jpg
END:VEVENT
BEGIN:VEVENT
DTSTART;TZID=Asia/Kolkata:20220820T113000
DTEND;TZID=Asia/Kolkata:20220820T170000
DTSTAMP:20260424T034655
CREATED:20220901T053839Z
LAST-MODIFIED:20240419T051644Z
UID:864-1660995000-1661014800@fmafaridabad.com
SUMMARY:"Abhivyakti" Leadership Talks with Global Business Leaders (S1.E4)
DESCRIPTION:Faridabad Management Association Fellowship Learning Innovation\nAll India Management Association\nFaridabad Management Association Invites You To \n“Abhivyakti” Leadership Talks With Global Business Leaders (S1.e4)\nTheme: Risk | Resilience Reinvention \n  \nGuest Of Honour\nDr Rabiaah’ Bhatia Founder/director – Ed Webstudio Channel \nMentor Of Change – Niti Aayog/ Atal Global Speaker & Thought Leader \nSaturday\, 20 Aug 2022 11:30 Am  \nMeeting Id: 826 1168 8151 \nPasscode: 513 840 \n  \nTeam A FMA\nModerator\nSaloni Kaul – President\nCharu Smita Malhotra – Gen. Secretary\nV. Thyagarajan Executive  – Director\nVir Bharat FMA Council – IT\nRavinder Singh FMA Council – Membership\nKaruna Ahuja FMA Council – Events\nKP Dhimman FMA Council – Finance
URL:https://fmafaridabad.com/event/abhivyakti-leadership-talks-with-global-business-leaders-s1-e4/
CATEGORIES:Virtual Webinar
ATTACH;FMTTYPE=image/jpeg:https://fmafaridabad.com/wp-content/uploads/2022/09/22Abhivyakti22-Leadership-Talks-with-Global-Business-Leaders.jpg
END:VEVENT
BEGIN:VEVENT
DTSTART;TZID=Asia/Kolkata:20220813T080000
DTEND;TZID=Asia/Kolkata:20220813T170000
DTSTAMP:20260424T034655
CREATED:20220816T073537Z
LAST-MODIFIED:20240419T051722Z
UID:861-1660377600-1660410000@fmafaridabad.com
SUMMARY:"Aarogyata" Ep 3. An exclusive session on Sound Healing Be Active | Be Healthy Be Happy
DESCRIPTION:Guest Of Honour\nPreeta\nWholeness Coach Certified Sound Healer & Gong Master \nSaturday\, 13 Aug 2022 4:00 Pm\nZoom Meeting Id: 868 7861 9418\nPasscode: 6290 31 \nTeam A Fma \n\nSaloni Kaul President\nCharu Smita Malhotra – Gen. Secretary\nV. Thyagarajan Executive Director\nVir Bharat Fma Council – IT\nRavinder Singh Fma Council – Membership\nKaruna Ahuja Fma Council – Events
URL:https://fmafaridabad.com/event/aarogyata-ep-3-an-exclusive-session-on-sound-healing-be-active-be-healthy-be-happy/
CATEGORIES:Virtual Webinar
ATTACH;FMTTYPE=image/jpeg:https://fmafaridabad.com/wp-content/uploads/2022/08/FMA-Event-13082022-Arogyata-3SoundHealing-Preeta.jpg
END:VEVENT
BEGIN:VEVENT
DTSTART;TZID=Asia/Kolkata:20220806T160000
DTEND;TZID=Asia/Kolkata:20220806T170000
DTSTAMP:20260424T034655
CREATED:20220816T072305Z
LAST-MODIFIED:20240419T051758Z
UID:858-1659801600-1659805200@fmafaridabad.com
SUMMARY:"Abhivyakti" tête-à-tête with global business leaders (S1.E3)
DESCRIPTION:Theme: “what it takes to build & sustain a successful\, enduring enterprise” \nGuest Of Honour\nVishal Malhotra \nManaging Director Presto Stantest Pvt. Ltd. \nSaturday\, 6 Aug 2022 4:00 PM \nzoom @ Meeting ID: 816 3160 5128 \nPasscode: fma
URL:https://fmafaridabad.com/event/abhivyakti-tete-a-tete-with-global-business-leaders-s1-e3/
CATEGORIES:Virtual Webinar
ATTACH;FMTTYPE=image/jpeg:https://fmafaridabad.com/wp-content/uploads/2022/08/fma-Event-60822-AbhivyaktiVishal-Mahotra.jpg
END:VEVENT
BEGIN:VEVENT
DTSTART;TZID=Asia/Kolkata:20220716T163000
DTEND;TZID=Asia/Kolkata:20220716T170000
DTSTAMP:20260424T034655
CREATED:20220816T071627Z
LAST-MODIFIED:20240419T051816Z
UID:855-1657989000-1657990800@fmafaridabad.com
SUMMARY:Create your Happiness - ZOOM LIVE
DESCRIPTION:Create your Happiness ZOOM LIVE \nWith Neha Pant Tewari Founder of Your Success Story \n16th July ’22 @4 PM
URL:https://fmafaridabad.com/event/create-your-happiness-zoom-live/
CATEGORIES:Virtual Webinar
ATTACH;FMTTYPE=image/jpeg:https://fmafaridabad.com/wp-content/uploads/2022/08/Create-your-Happiness-ZOOM-LIVE.jpg
END:VEVENT
BEGIN:VEVENT
DTSTART;TZID=Asia/Kolkata:20220604T160000
DTEND;TZID=Asia/Kolkata:20220604T170000
DTSTAMP:20260424T034655
CREATED:20220604T035140Z
LAST-MODIFIED:20240419T052052Z
UID:837-1654358400-1654362000@fmafaridabad.com
SUMMARY:Increase Your Impact through Executive Presence
DESCRIPTION:Faridabad Management Association is inviting you to a scheduled Zoom meeting. \nTopic: Increase Your Impact through Executive Presence\nTime: Jun 4\, 2022 04:00 PM IST \nJoin Zoom Meeting\nhttps://us02web.zoom.us/j/81327084405?pwd=QnIzYjBNUkk2K2FDVjZJUG52QlU5QT09 \nMeeting ID: 813 2708 4405\nPasscode: 413750
URL:https://fmafaridabad.com/event/increase-your-impact-through-executive-presence/
CATEGORIES:Seminar & Conference,Virtual Webinar
ATTACH;FMTTYPE=image/webp:https://fmafaridabad.com/wp-content/uploads/2022/06/Increase-Your-Impact-through-Executive-Presence.webp
END:VEVENT
BEGIN:VEVENT
DTSTART;TZID=Asia/Kolkata:20220430T110000
DTEND;TZID=Asia/Kolkata:20220430T110000
DTSTAMP:20260424T034655
CREATED:20220428T060037Z
LAST-MODIFIED:20240419T052139Z
UID:788-1651316400-1651316400@fmafaridabad.com
SUMMARY:Abhivyakti: TÊTE-À-TÊTE  With Global Business Leaders
DESCRIPTION:Guests Of Honour\nMR. D. K. BAKSHI\nHRD Consultant\nPublic Speaker Global Leadership Coach \nDR. NALLI RAMYA ENT Surgeon (JIPMER)\nFounder CEO Ramicos Cosmetics \n  \nTalk Show Host\nMS. CHARU SMITA MALHOTRA\nGen. Secretary – FMA Business Transformation Consultant\nIBM India Pvt. Ltd. \nTEAM @ FMA\nSALONI KAUL\nPresident \nCHARU SMITA MALHOTRA\,\nGen. Secretary \nV. THYAGRAJAN\nExec. Director \nCall: 8882326117/ 8130928430/ 9717012999 or Email: aimafaridabad@gmail.com
URL:https://fmafaridabad.com/event/abhivyakti-tete-a-tete-with-global-business-leaders/
CATEGORIES:Virtual Webinar
ATTACH;FMTTYPE=image/jpeg:https://fmafaridabad.com/wp-content/uploads/2022/04/Abhivyakti-TETE-A-TETE-With-ith-Global-Business-Leaders.jpg
END:VEVENT
BEGIN:VEVENT
DTSTART;TZID=Asia/Kolkata:20220429T160000
DTEND;TZID=Asia/Kolkata:20220429T170000
DTSTAMP:20260424T034655
CREATED:20220428T055142Z
LAST-MODIFIED:20240419T052146Z
UID:785-1651248000-1651251600@fmafaridabad.com
SUMMARY:Business Communication For Managers and Leaders
DESCRIPTION:Kaushal Vriddhi Series – Let’s enhance our Skill Sets
URL:https://fmafaridabad.com/event/business-communication-for-managers-and-leaders/
CATEGORIES:Virtual Webinar
ATTACH;FMTTYPE=image/jpeg:https://fmafaridabad.com/wp-content/uploads/2022/04/Business-Communication-For-Managers-and-Leaders.jpg
END:VEVENT
BEGIN:VEVENT
DTSTART;TZID=Asia/Kolkata:20210430T113000
DTEND;TZID=Asia/Kolkata:20210430T130000
DTSTAMP:20260424T034655
CREATED:20210429T140130Z
LAST-MODIFIED:20240508T144712Z
UID:775-1619782200-1619787600@fmafaridabad.com
SUMMARY:Virtual Webinar Session on Dynamics & Culture of Entrepreneurship
DESCRIPTION:
URL:https://fmafaridabad.com/event/virtual-webinar-session-on-dynamics-culture-of-entrepreneurship/
CATEGORIES:Virtual Webinar
ATTACH;FMTTYPE=image/webp:https://fmafaridabad.com/wp-content/uploads/2021/04/IMG-20210429-WA0006.webp
END:VEVENT
END:VCALENDAR