BEGIN:VCALENDAR
VERSION:2.0
PRODID:-//Faridabad Management Association - ECPv6.11.2//NONSGML v1.0//EN
CALSCALE:GREGORIAN
METHOD:PUBLISH
X-WR-CALNAME:Faridabad Management Association
X-ORIGINAL-URL:https://fmafaridabad.com
X-WR-CALDESC:Events for Faridabad Management Association
REFRESH-INTERVAL;VALUE=DURATION:PT1H
X-Robots-Tag:noindex
X-PUBLISHED-TTL:PT1H
BEGIN:VTIMEZONE
TZID:Asia/Kolkata
BEGIN:STANDARD
TZOFFSETFROM:+0530
TZOFFSETTO:+0530
TZNAME:IST
DTSTART:20200101T000000
END:STANDARD
END:VTIMEZONE
BEGIN:VEVENT
DTSTART;TZID=Asia/Kolkata:20220430T110000
DTEND;TZID=Asia/Kolkata:20220430T110000
DTSTAMP:20260424T190147
CREATED:20220428T060037Z
LAST-MODIFIED:20240419T052139Z
UID:788-1651316400-1651316400@fmafaridabad.com
SUMMARY:Abhivyakti: TÊTE-À-TÊTE  With Global Business Leaders
DESCRIPTION:Guests Of Honour\nMR. D. K. BAKSHI\nHRD Consultant\nPublic Speaker Global Leadership Coach \nDR. NALLI RAMYA ENT Surgeon (JIPMER)\nFounder CEO Ramicos Cosmetics \n  \nTalk Show Host\nMS. CHARU SMITA MALHOTRA\nGen. Secretary – FMA Business Transformation Consultant\nIBM India Pvt. Ltd. \nTEAM @ FMA\nSALONI KAUL\nPresident \nCHARU SMITA MALHOTRA\,\nGen. Secretary \nV. THYAGRAJAN\nExec. Director \nCall: 8882326117/ 8130928430/ 9717012999 or Email: aimafaridabad@gmail.com
URL:https://fmafaridabad.com/event/abhivyakti-tete-a-tete-with-global-business-leaders/
CATEGORIES:Virtual Webinar
ATTACH;FMTTYPE=image/jpeg:https://fmafaridabad.com/wp-content/uploads/2022/04/Abhivyakti-TETE-A-TETE-With-ith-Global-Business-Leaders.jpg
END:VEVENT
BEGIN:VEVENT
DTSTART;TZID=Asia/Kolkata:20220429T160000
DTEND;TZID=Asia/Kolkata:20220429T170000
DTSTAMP:20260424T190147
CREATED:20220428T055142Z
LAST-MODIFIED:20240419T052146Z
UID:785-1651248000-1651251600@fmafaridabad.com
SUMMARY:Business Communication For Managers and Leaders
DESCRIPTION:Kaushal Vriddhi Series – Let’s enhance our Skill Sets
URL:https://fmafaridabad.com/event/business-communication-for-managers-and-leaders/
CATEGORIES:Virtual Webinar
ATTACH;FMTTYPE=image/jpeg:https://fmafaridabad.com/wp-content/uploads/2022/04/Business-Communication-For-Managers-and-Leaders.jpg
END:VEVENT
BEGIN:VEVENT
DTSTART;TZID=Asia/Kolkata:20210430T113000
DTEND;TZID=Asia/Kolkata:20210430T130000
DTSTAMP:20260424T190147
CREATED:20210429T140130Z
LAST-MODIFIED:20240508T144712Z
UID:775-1619782200-1619787600@fmafaridabad.com
SUMMARY:Virtual Webinar Session on Dynamics & Culture of Entrepreneurship
DESCRIPTION:
URL:https://fmafaridabad.com/event/virtual-webinar-session-on-dynamics-culture-of-entrepreneurship/
CATEGORIES:Virtual Webinar
ATTACH;FMTTYPE=image/webp:https://fmafaridabad.com/wp-content/uploads/2021/04/IMG-20210429-WA0006.webp
END:VEVENT
BEGIN:VEVENT
DTSTART;TZID=Asia/Kolkata:20210410T170000
DTEND;TZID=Asia/Kolkata:20210410T170000
DTSTAMP:20260424T190147
CREATED:20210429T190837Z
LAST-MODIFIED:20240419T052342Z
UID:778-1618074000-1618074000@fmafaridabad.com
SUMMARY:Celebrating Women Achievers
DESCRIPTION:
URL:https://fmafaridabad.com/event/celebrating-women-achievers/
CATEGORIES:Seminar & Conference
ATTACH;FMTTYPE=image/jpeg:https://fmafaridabad.com/wp-content/uploads/2021/04/IMG-20210430-WA0001.jpg
END:VEVENT
BEGIN:VEVENT
DTSTART;TZID=Asia/Kolkata:20210407T123000
DTEND;TZID=Asia/Kolkata:20210407T140000
DTSTAMP:20260424T190147
CREATED:20210429T191107Z
LAST-MODIFIED:20210429T191107Z
UID:782-1617798600-1617804000@fmafaridabad.com
SUMMARY:Panel Discussion on Building Capabilities During Uncertain Times
DESCRIPTION:
URL:https://fmafaridabad.com/event/panel-discussion-on-building-capabilities-during-uncertain-times/
CATEGORIES:Panel Discussion
ATTACH;FMTTYPE=image/jpeg:https://fmafaridabad.com/wp-content/uploads/2021/04/IMG-20210430-WA0000.jpg
END:VEVENT
BEGIN:VEVENT
DTSTART;TZID=Asia/Kolkata:20210226T113000
DTEND;TZID=Asia/Kolkata:20210226T133000
DTSTAMP:20260424T190147
CREATED:20210226T043056Z
LAST-MODIFIED:20210226T043106Z
UID:770-1614339000-1614346200@fmafaridabad.com
SUMMARY:Empowerment Through Entrepreneurship Challenges & Opportunities
DESCRIPTION:Sushant University\nErstwhile Ansal University Gurugram\nEntrepreneurship Cell (E-Cell) Invites You To A Virtual Webinar Session \nRegistration link: https://bit.ly/2ZL8Xm8
URL:https://fmafaridabad.com/event/empowerment-through-entrepreneurship-challenges-opportunities/
CATEGORIES:Seminar & Conference
ATTACH;FMTTYPE=image/jpeg:https://fmafaridabad.com/wp-content/uploads/2021/02/Empowerment-Through-Entrepreneurship-Challenges-Opportunities.jpeg
END:VEVENT
BEGIN:VEVENT
DTSTART;TZID=Asia/Kolkata:20210219T150000
DTEND;TZID=Asia/Kolkata:20210219T160000
DTSTAMP:20260424T190147
CREATED:20210219T061043Z
LAST-MODIFIED:20210219T062617Z
UID:760-1613746800-1613750400@fmafaridabad.com
SUMMARY:National Management Day - Transformation for Continuity
DESCRIPTION:Key Note Speaker\nMr. Raj Nehru \nHon’ble Vice-Chancellor \nFRIDAY February 19 2021 \n03:00PM to 04:00 PM \n  \nSpeakers\nProf. (Dr.) Jyoti Rana  \nConvener & Dean\, SFMSR SVSU \n  \nProf. (Dr.) Dewakar Goel \nChairman AAASM \n  \nMs. Gitanjali Saxena \nLead Strategist Lagom Works \n  \nCo-Convener \nMs. Meenakshi Koul  \nSVSU \n  \nMr. Abhay Kapoor  \nPresident\, FMA \n  \nMr. V. Thyagarajan \nED\, FMA \n  \nMeeting Link:  http://meet.google.com/oiv-xxru-fgt
URL:https://fmafaridabad.com/event/national-management-day-transformation-for-continuity/
CATEGORIES:Seminar & Conference
ATTACH;FMTTYPE=image/jpeg:https://fmafaridabad.com/wp-content/uploads/2021/02/National-Management-Day-Transformation-for-Continuity.jpg
END:VEVENT
BEGIN:VEVENT
DTSTART;TZID=Asia/Kolkata:20210205T170000
DTEND;TZID=Asia/Kolkata:20210205T180000
DTSTAMP:20260424T190147
CREATED:20210129T220454Z
LAST-MODIFIED:20210129T220454Z
UID:757-1612544400-1612548000@fmafaridabad.com
SUMMARY:Skill Development During & Post COVID Opportunities & Challenges
DESCRIPTION:
URL:https://fmafaridabad.com/event/skill-development-during-post-covid-opportunities-challenges/
CATEGORIES:Seminar & Conference
ATTACH;FMTTYPE=image/jpeg:https://fmafaridabad.com/wp-content/uploads/2021/01/IMG-20210129-WA0001.jpg
END:VEVENT
BEGIN:VEVENT
DTSTART;TZID=Asia/Kolkata:20210129T173000
DTEND;TZID=Asia/Kolkata:20210129T173000
DTSTAMP:20260424T190147
CREATED:20210128T184324Z
LAST-MODIFIED:20210128T184432Z
UID:726-1611941400-1611941400@fmafaridabad.com
SUMMARY:Talent Development: Renewed Perspectives
DESCRIPTION:
URL:https://fmafaridabad.com/event/talent-development-renewed-perspectives/
CATEGORIES:Seminar & Conference
ATTACH;FMTTYPE=image/jpeg:https://fmafaridabad.com/wp-content/uploads/2021/01/IMG-20210128-WA0059.jpg
END:VEVENT
BEGIN:VEVENT
DTSTART;TZID=Asia/Kolkata:20210120T150000
DTEND;TZID=Asia/Kolkata:20210120T163000
DTSTAMP:20260424T190147
CREATED:20210128T185055Z
LAST-MODIFIED:20210128T190159Z
UID:732-1611154800-1611160200@fmafaridabad.com
SUMMARY:Mindforge Series By Peoplezenn Talent Agenda 2021
DESCRIPTION:
URL:https://fmafaridabad.com/event/mindforged-series-by-peoplezenn-talent-agenda-2021/
CATEGORIES:Seminar & Conference
ATTACH;FMTTYPE=image/jpeg:https://fmafaridabad.com/wp-content/uploads/2021/01/IMG-20210128-WA0062.jpg
END:VEVENT
BEGIN:VEVENT
DTSTART;TZID=Asia/Kolkata:20210115T140000
DTEND;TZID=Asia/Kolkata:20210115T153000
DTSTAMP:20260424T190147
CREATED:20210128T185424Z
LAST-MODIFIED:20210128T185725Z
UID:731-1610719200-1610724600@fmafaridabad.com
SUMMARY:Emerging Employment Opportunities and Skills Required Post-COVID - 19
DESCRIPTION:
URL:https://fmafaridabad.com/event/emerging-employment-opportunities-and-skills-required-post-covid-19/
CATEGORIES:Seminar & Conference
ATTACH;FMTTYPE=image/jpeg:https://fmafaridabad.com/wp-content/uploads/2021/01/IMG-20210128-WA0063.jpg
END:VEVENT
BEGIN:VEVENT
DTSTART;TZID=Asia/Kolkata:20201216T170000
DTEND;TZID=Asia/Kolkata:20201216T183000
DTSTAMP:20260424T190147
CREATED:20210128T191259Z
LAST-MODIFIED:20210128T191259Z
UID:737-1608138000-1608143400@fmafaridabad.com
SUMMARY:Webinar on ‘Individual Development Planning’
DESCRIPTION:Faridabad Management Association conducted a Webinar on ‘Individual Development Planning’ on 16th December 2020 from 5.00Pm to 6.30Pm.  The Speaker on this Topic was  Ms. Saloni Kaul\, Founder & CE)\, It’s People.  Session was initiated by Mr. V. Thyagarajan\, Executive Director\, Faridabad Management Association who gave a welcome address followed by an Introduction of Faridabad Management Association and a Brief Profile of Ms. Saloni. .  Ms. Saloni Spoke in details on How to develop Individual Development Plans and executve the same. In the end concluding remarks were given by Mr. V. Thyagarajan.  Webinar was attended by participants from Industry as well as academia as well as some students.
URL:https://fmafaridabad.com/event/webinar-on-individual-development-planning/
CATEGORIES:Seminar & Conference
ATTACH;FMTTYPE=image/jpeg:https://fmafaridabad.com/wp-content/uploads/2021/01/Event-FMA-16thDec-IndividualDevelopmentPlanning-SaloniKaul.jpg
END:VEVENT
BEGIN:VEVENT
DTSTART;TZID=Asia/Kolkata:20201211T130000
DTEND;TZID=Asia/Kolkata:20201211T153000
DTSTAMP:20260424T190147
CREATED:20210128T191000Z
LAST-MODIFIED:20210128T191018Z
UID:738-1607691600-1607700600@fmafaridabad.com
SUMMARY:Virtual Panel Discussion on the Topic “Spirit of Entreprenuership” 
DESCRIPTION:Faridabad Management Association in collaboration with MVN University conducted a Virtual Panel Discussion on the Topic “Spirit of Entreprenuership”  on 11th December 2020 from 1:30Pm to 3:30Pm  Inagural address was given by Dr. Sanjay Sadana\, Sr. Faculty-SPMC of  MVN university who also moderated the Panel Discussion.  From Faridabad Management Association\, the Welcome Address was given by Mr. V. Thyagarajan\, Executive Director. Session started by Dr.Sanjay Sadana by introduction of Speakers.  The Main Speakers of the Panel were: 1. Ms. Smiti Bhatt Deorah\, Co-founder & COO of Advantage Club\, 2. Ms. Aakriti Bhargava\, Co-founder & COO\, Wizikey\, 3. Mr. Navdeesh Mahajan\, Co-Founder- NBDM Entertainment and  4. Ms. Saloni Kaul\,  Founder & CEO\, It’s People.   Each and Every speaker shared their entreprenal Journey and also told how they overcame the hurdles to become a successful entrepreneur.  This Topic on Entreprenuership was curated by Mr. V. Thyagarajan and Mr. Gaurav Saini\, General Manager- CRC of  MVN University\, Faridabad.   Finally\, Concluding remarks and Vote of thanks was delivered by Mr. V. Thyagarajan.  Event was attended by Students\, Faculties\, Industries and consultants.   \n  \n 
URL:https://fmafaridabad.com/event/virtual-panel-discussion-on-the-topic-spirit-of-entreprenuership/
CATEGORIES:Seminar & Conference
ATTACH;FMTTYPE=image/jpeg:https://fmafaridabad.com/wp-content/uploads/2021/01/Event-FMA-11thDec-MVN-SpiritOfEntreprenuership.jpg
END:VEVENT
BEGIN:VEVENT
DTSTART;TZID=Asia/Kolkata:20201119T173000
DTEND;TZID=Asia/Kolkata:20201119T190000
DTSTAMP:20260424T190147
CREATED:20210128T192306Z
LAST-MODIFIED:20210128T192306Z
UID:753-1605807000-1605812400@fmafaridabad.com
SUMMARY:Virtual Panel Discussion on : Organisational Excellence –Navigating through Turbulent Times. 
DESCRIPTION:Faridabad Management Association supported the NHRD\, Delhi & NCR Chapter Lead Virtual Panel Discussion on 19th November 2020 – 5.30Pm to 7.00Pm on the Topic : Organisational Excellence –Navigating through Turbulent Times.  It was a  Padma Shri Dr. Pritam Singh  Memorial Lecture.    DMA\, ISTD & Manav Rachna Bimtech\,  EPSi were partners.  Chief Guest  Mr. Raghupati Singhania\, Chairman & MD\, JK Tyes & Industries Ltd.  The Keynote Speaker was Dr. David Sola Professor Entreprenuership\, ESCP Business School. The Other Prominent Speakers were Mr. Rajeev Dubey\, Principal Advisor\, Mahindra & Mahindra\,  Dr. Adi Malia\, CEO & Partner\, The Firm\, Dr. Alka Mittal\, Director-Hr – ONGC and Mr. Pushp Joshi Director- HR\, HPCL. The Panel was Moderated by   Dr. Asha Bhandarkar\, Professor\, Organisational Behaviour\,  International Management Institute.  It was attended  by Industry\, Consultants and Academia.  
URL:https://fmafaridabad.com/event/virtual-panel-discussion-on-organisational-excellence-navigating-through-turbulent-times/
ATTACH;FMTTYPE=image/jpeg:https://fmafaridabad.com/wp-content/uploads/2021/01/Event-FMA-19thNovember2020.jpg
END:VEVENT
BEGIN:VEVENT
DTSTART;TZID=Asia/Kolkata:20201112T160000
DTEND;TZID=Asia/Kolkata:20201112T173000
DTSTAMP:20260424T190147
CREATED:20210128T192041Z
LAST-MODIFIED:20210128T192041Z
UID:751-1605196800-1605202200@fmafaridabad.com
SUMMARY:Faridabad Management Association supported an Event : Digitalisation in L&D
DESCRIPTION:Faridabad Management Association supported an Event organised by ISTD Delhi Chapter on  12th November 2020 from 4Pm to 5.30Pm.  NHRD\, Delhi & NCR Chapter\, National Institute of Personnel Management and DMA were also the partners. The Topic was  Digitalisation in L&D.   The Event was curated by Mr. G.P. Rao . Event Started with the Opening remarks by Mr. G.P. Rao.  The Celebrated Speakers were  Ms. Simin Askari\, Vice-President – Corp HR & Business Excellence\, DS Group\,  Ms. Deepshikha Malik\, Sr. Manager\, Lead D&I and L&D\, Hero Moto Corp\,  Ms. Ashima Roona\, Vice President\, Human Resources\, Cosmo Films  Ms. Gunjan Shukla\, AGM\, Corporate L&D\, BHEL.  It had attended largely by Industries as well as academia. Mr. V. Thyagarajan\, Executive Director\, Faridabad Management Association also gave positive remarks about the Event.  Finally a Vote of Thanks was given by Mr. Mukesh Jain\, Chairman\, ISTD.
URL:https://fmafaridabad.com/event/faridabad-management-association-supported-an-event-digitalisation-in-ld/
CATEGORIES:Seminar & Conference
ATTACH;FMTTYPE=image/jpeg:https://fmafaridabad.com/wp-content/uploads/2021/01/Event-FMA-12thNov-DigitalisationofLD.jpg
END:VEVENT
BEGIN:VEVENT
DTSTART;TZID=Asia/Kolkata:20201108T110000
DTEND;TZID=Asia/Kolkata:20201108T130000
DTSTAMP:20260424T190147
CREATED:20210128T191725Z
LAST-MODIFIED:20210128T191725Z
UID:741-1604833200-1604840400@fmafaridabad.com
SUMMARY:Virtual Event on : Discovering Lifes Purpose
DESCRIPTION:Faridabad Management Association Organised a Virtual Event on 8th November 2020 from 11:00 am to 1:00 Pm on the Topic Discovering Lifes Purpose.   The Speaker for the session was Ms. Saloni Kaul\,  Founder & CEO Its People. Session started with the Host Ms. Gunjan Saini of Capgemini Introducing about Faridabad Management Association and also about the Speaker. Ms. Saloni Kaul spoke about know your IKIGAI ie. Our IKIGAI is the reason we get up in the morning.  She also discussed about the matrix to simplify to achieve our IKIGAI. She made the audience gradually build up some realistic Goals based on their Passion as to what they want to do in their life. It was a highly interactive session where the participants wrote down the purpose of life and discussed and were facilitated to find the their right purpose..  Finally a  Hearty vote of thanks was delivered by Mr. V. Thyagarajan \,  Executive Director\, Faridabad Management Association. Session was highly appreciated by the participants from Industry\, Consultants and Academia. 
URL:https://fmafaridabad.com/event/virtual-event-on-discovering-lifes-purpose/
CATEGORIES:Seminar & Conference
ATTACH;FMTTYPE=image/png:https://fmafaridabad.com/wp-content/uploads/2021/01/Event-FMA-8thNov20-DiscoverYourLifesPurpose.png
END:VEVENT
BEGIN:VEVENT
DTSTART;TZID=Asia/Kolkata:20201022T163000
DTEND;TZID=Asia/Kolkata:20201022T180000
DTSTAMP:20260424T190147
CREATED:20201024T051041Z
LAST-MODIFIED:20201024T051153Z
UID:720-1603384200-1603389600@fmafaridabad.com
SUMMARY:Virtual Panel Discussion Leveraging The IR Code 2020
DESCRIPTION:
URL:https://fmafaridabad.com/event/virtual-panel-discussion-leveraging-the-ir-code-2020/
CATEGORIES:Seminar & Conference
ATTACH;FMTTYPE=image/jpeg:https://fmafaridabad.com/wp-content/uploads/2020/10/Virtual-Panel-Discussion-Leveraging-The-IR-Code-2020.jpg
END:VEVENT
BEGIN:VEVENT
DTSTART;TZID=Asia/Kolkata:20201021T103000
DTEND;TZID=Asia/Kolkata:20201025T170000
DTSTAMP:20260424T190147
CREATED:20201024T050725Z
LAST-MODIFIED:20201024T050725Z
UID:717-1603276200-1603645200@fmafaridabad.com
SUMMARY:Online Orientation Programme
DESCRIPTION:
URL:https://fmafaridabad.com/event/online-orientation-programme/
CATEGORIES:Seminar & Conference
ATTACH;FMTTYPE=image/jpeg:https://fmafaridabad.com/wp-content/uploads/2020/10/Orientation-Credo.jpg
END:VEVENT
BEGIN:VEVENT
DTSTART;VALUE=DATE:20201014
DTEND;VALUE=DATE:20201017
DTSTAMP:20260424T190147
CREATED:20201016T041928Z
LAST-MODIFIED:20201016T041928Z
UID:714-1602633600-1602892799@fmafaridabad.com
SUMMARY:Becoming a Successful Future Leader
DESCRIPTION:Becoming a Successful Future Leader \nMr. Subhash Jagota \nManaging Director\, Jabro Advertising & Marketing Pvt. Ltd.
URL:https://fmafaridabad.com/event/becoming-a-successful-future-leader/
CATEGORIES:Seminar & Conference
ATTACH;FMTTYPE=image/jpeg:https://fmafaridabad.com/wp-content/uploads/2020/10/Becoming-a-Successful-Future-Leader.jpg
END:VEVENT
BEGIN:VEVENT
DTSTART;TZID=Asia/Kolkata:20200929T113000
DTEND;TZID=Asia/Kolkata:20200929T113000
DTSTAMP:20260424T190147
CREATED:20201024T051821Z
LAST-MODIFIED:20201024T051821Z
UID:723-1601379000-1601379000@fmafaridabad.com
SUMMARY:Wellness 360 Healthy is the New Year
DESCRIPTION:
URL:https://fmafaridabad.com/event/wellness-360-healthy-is-the-new-year/
CATEGORIES:Seminar & Conference
ATTACH;FMTTYPE=image/jpeg:https://fmafaridabad.com/wp-content/uploads/2020/10/welness360.jpg
END:VEVENT
BEGIN:VEVENT
DTSTART;TZID=Asia/Kolkata:20200929T020000
DTEND;TZID=Asia/Kolkata:20200929T170000
DTSTAMP:20260424T190147
CREATED:20201003T050509Z
LAST-MODIFIED:20201003T050509Z
UID:711-1601344800-1601398800@fmafaridabad.com
SUMMARY:Virtual Meet: Bridging Industry Academia Gaps - Way Forward
DESCRIPTION:Virtual Meet \nTheme: Bridging Industry-Academia Gaps – Way Forward
URL:https://fmafaridabad.com/event/virtual-meet-bridging-industry-academia-gaps-way-forward/
CATEGORIES:Seminar & Conference
ATTACH;FMTTYPE=image/jpeg:https://fmafaridabad.com/wp-content/uploads/2020/10/Virtual-MeetBridging-Industry-Academia-Gaps-Way-Forward.jpg
END:VEVENT
BEGIN:VEVENT
DTSTART;TZID=Asia/Kolkata:20200910T170000
DTEND;TZID=Asia/Kolkata:20200910T183000
DTSTAMP:20260424T190147
CREATED:20200922T181118Z
LAST-MODIFIED:20200922T181118Z
UID:708-1599757200-1599762600@fmafaridabad.com
SUMMARY:Exclusive Webinar on Importance of Health Insurance In Current COVID Time
DESCRIPTION:Speaker :  \nMr. Sheenu Sehgal\nHead-Non-Life insurance\,\nBajaj Capital Insurance Broking Ltd.
URL:https://fmafaridabad.com/event/exclusive-webinar-on-importance-of-health-insurance-in-current-covid-time/
CATEGORIES:Seminar & Conference
ATTACH;FMTTYPE=image/jpeg:https://fmafaridabad.com/wp-content/uploads/2020/09/IMG-20200922-WA0048.jpg
END:VEVENT
BEGIN:VEVENT
DTSTART;TZID=Asia/Kolkata:20200829T163000
DTEND;TZID=Asia/Kolkata:20200829T180000
DTSTAMP:20260424T190147
CREATED:20200828T110515Z
LAST-MODIFIED:20200828T110515Z
UID:705-1598718600-1598724000@fmafaridabad.com
SUMMARY:Panel Discussion on Rethinking Performance Management Post Covid
DESCRIPTION:
URL:https://fmafaridabad.com/event/panel-discussion-on-rethinking-performance-management-post-covid/
CATEGORIES:Seminar & Conference
ATTACH;FMTTYPE=image/jpeg:https://fmafaridabad.com/wp-content/uploads/2020/08/IMG-20200828-WA0070.jpg
END:VEVENT
BEGIN:VEVENT
DTSTART;TZID=Asia/Kolkata:20200827T180000
DTEND;TZID=Asia/Kolkata:20200827T180000
DTSTAMP:20260424T190147
CREATED:20200822T103347Z
LAST-MODIFIED:20200822T103347Z
UID:655-1598551200-1598551200@fmafaridabad.com
SUMMARY:Webinar on Using Linkedin to Increase Your Visibility and Credibility
DESCRIPTION:Speaker:\nMs. Divya Shlokam\nCEO & Founder\, Business Coach\nJob to Business Transition Coach\nPersonal Branding & Executive Coach\, Divya Shlokam Media \n 
URL:https://fmafaridabad.com/event/webinar-on-using-linkedin-to-increase-your-visibility-and-credibility/
CATEGORIES:Seminar & Conference
ATTACH;FMTTYPE=image/jpeg:https://fmafaridabad.com/wp-content/uploads/2020/08/IMG-20200822-WA0033.jpg
END:VEVENT
BEGIN:VEVENT
DTSTART;TZID=Asia/Kolkata:20200823T110000
DTEND;TZID=Asia/Kolkata:20200823T110000
DTSTAMP:20260424T190147
CREATED:20200822T102737Z
LAST-MODIFIED:20200822T102737Z
UID:651-1598180400-1598180400@fmafaridabad.com
SUMMARY:Career Counselling Webinar For BBA Programmes
DESCRIPTION:
URL:https://fmafaridabad.com/event/career-counselling-webinar-for-bba-programmes/
CATEGORIES:Seminar & Conference
ATTACH;FMTTYPE=image/jpeg:https://fmafaridabad.com/wp-content/uploads/2020/08/AUG-23-COUNSELLING-FLYER-scaled.jpg
END:VEVENT
BEGIN:VEVENT
DTSTART;TZID=Asia/Kolkata:20200822T170000
DTEND;TZID=Asia/Kolkata:20200822T180000
DTSTAMP:20260424T190147
CREATED:20200820T193420Z
LAST-MODIFIED:20200820T193420Z
UID:606-1598115600-1598119200@fmafaridabad.com
SUMMARY:How To Leverage Social Media For Ecommerce Marketing?
DESCRIPTION:Speakers: \nMr. Mahesh Balakrishnan\nDirector\nHuman Touch\, Singapore \nAnamika Sharma\nSocial Media Manager\nPeoplebridge
URL:https://fmafaridabad.com/event/how-to-leverage-social-media-for-ecommerce-marketing/
CATEGORIES:Seminar & Conference
ATTACH;FMTTYPE=image/jpeg:https://fmafaridabad.com/wp-content/uploads/2020/08/IMG-20200820-WA0051.jpg
END:VEVENT
BEGIN:VEVENT
DTSTART;TZID=Asia/Kolkata:20200821T180000
DTEND;TZID=Asia/Kolkata:20200821T190000
DTSTAMP:20260424T190147
CREATED:20200818T143342Z
LAST-MODIFIED:20200818T143342Z
UID:599-1598032800-1598036400@fmafaridabad.com
SUMMARY:Webinar on Y-LEAGUE: Navigate To Future
DESCRIPTION:
URL:https://fmafaridabad.com/event/webinar-on-y-league-navigate-to-future/
CATEGORIES:Seminar & Conference
ATTACH;FMTTYPE=image/jpeg:https://fmafaridabad.com/wp-content/uploads/2020/08/IMG-20200818-WA0058.jpg
END:VEVENT
BEGIN:VEVENT
DTSTART;TZID=Asia/Kolkata:20200809T170000
DTEND;TZID=Asia/Kolkata:20200809T180000
DTSTAMP:20260424T190147
CREATED:20200808T041246Z
LAST-MODIFIED:20200808T041246Z
UID:593-1596992400-1596996000@fmafaridabad.com
SUMMARY:Webinar on Go GIG: GO AGILE
DESCRIPTION:
URL:https://fmafaridabad.com/event/webinar-on-go-gig-go-agile/
CATEGORIES:Seminar & Conference
ATTACH;FMTTYPE=image/jpeg:https://fmafaridabad.com/wp-content/uploads/2020/08/IMG-20200808-WA0001.jpg
END:VEVENT
BEGIN:VEVENT
DTSTART;TZID=Asia/Kolkata:20200808T050000
DTEND;TZID=Asia/Kolkata:20200808T190000
DTSTAMP:20260424T190147
CREATED:20200808T040842Z
LAST-MODIFIED:20200808T040842Z
UID:589-1596862800-1596913200@fmafaridabad.com
SUMMARY:Interactive Session on Innovation for Business Transformation
DESCRIPTION:Interactive Session on Innovation for Business Transformation \n“Why Walk\, When You Can Run?”
URL:https://fmafaridabad.com/event/interactive-session-on-innovation-for-business-transformation/
CATEGORIES:Seminar & Conference
ATTACH;FMTTYPE=image/jpeg:https://fmafaridabad.com/wp-content/uploads/2020/08/IMG-20200808-WA0002-compressed.jpg
END:VEVENT
BEGIN:VEVENT
DTSTART;TZID=Asia/Kolkata:20200802T113000
DTEND;TZID=Asia/Kolkata:20200802T130000
DTSTAMP:20260424T190147
CREATED:20200820T193821Z
LAST-MODIFIED:20200820T193821Z
UID:609-1596367800-1596373200@fmafaridabad.com
SUMMARY:Panel Discussion On : Unleashing Growth Opportunities Using Design Thinking
DESCRIPTION:
URL:https://fmafaridabad.com/event/panel-discussion-on-unleashing-growth-opportunities-using-design-thinking/
CATEGORIES:Seminar & Conference
ATTACH;FMTTYPE=image/jpeg:https://fmafaridabad.com/wp-content/uploads/2020/08/IMG-20200820-WA0036.jpg
END:VEVENT
END:VCALENDAR