BEGIN:VCALENDAR
VERSION:2.0
PRODID:-//Faridabad Management Association - ECPv6.11.2//NONSGML v1.0//EN
CALSCALE:GREGORIAN
METHOD:PUBLISH
X-ORIGINAL-URL:https://fmafaridabad.com
X-WR-CALDESC:Events for Faridabad Management Association
REFRESH-INTERVAL;VALUE=DURATION:PT1H
X-Robots-Tag:noindex
X-PUBLISHED-TTL:PT1H
BEGIN:VTIMEZONE
TZID:Asia/Kolkata
BEGIN:STANDARD
TZOFFSETFROM:+0530
TZOFFSETTO:+0530
TZNAME:IST
DTSTART:20200101T000000
END:STANDARD
END:VTIMEZONE
BEGIN:VEVENT
DTSTART;TZID=Asia/Kolkata:20200929T020000
DTEND;TZID=Asia/Kolkata:20200929T170000
DTSTAMP:20260424T220525
CREATED:20201003T050509Z
LAST-MODIFIED:20201003T050509Z
UID:711-1601344800-1601398800@fmafaridabad.com
SUMMARY:Virtual Meet: Bridging Industry Academia Gaps - Way Forward
DESCRIPTION:Virtual Meet \nTheme: Bridging Industry-Academia Gaps – Way Forward
URL:https://fmafaridabad.com/event/virtual-meet-bridging-industry-academia-gaps-way-forward/
CATEGORIES:Seminar & Conference
ATTACH;FMTTYPE=image/jpeg:https://fmafaridabad.com/wp-content/uploads/2020/10/Virtual-MeetBridging-Industry-Academia-Gaps-Way-Forward.jpg
END:VEVENT
BEGIN:VEVENT
DTSTART;TZID=Asia/Kolkata:20200910T170000
DTEND;TZID=Asia/Kolkata:20200910T183000
DTSTAMP:20260424T220525
CREATED:20200922T181118Z
LAST-MODIFIED:20200922T181118Z
UID:708-1599757200-1599762600@fmafaridabad.com
SUMMARY:Exclusive Webinar on Importance of Health Insurance In Current COVID Time
DESCRIPTION:Speaker :  \nMr. Sheenu Sehgal\nHead-Non-Life insurance\,\nBajaj Capital Insurance Broking Ltd.
URL:https://fmafaridabad.com/event/exclusive-webinar-on-importance-of-health-insurance-in-current-covid-time/
CATEGORIES:Seminar & Conference
ATTACH;FMTTYPE=image/jpeg:https://fmafaridabad.com/wp-content/uploads/2020/09/IMG-20200922-WA0048.jpg
END:VEVENT
BEGIN:VEVENT
DTSTART;TZID=Asia/Kolkata:20200829T163000
DTEND;TZID=Asia/Kolkata:20200829T180000
DTSTAMP:20260424T220525
CREATED:20200828T110515Z
LAST-MODIFIED:20200828T110515Z
UID:705-1598718600-1598724000@fmafaridabad.com
SUMMARY:Panel Discussion on Rethinking Performance Management Post Covid
DESCRIPTION:
URL:https://fmafaridabad.com/event/panel-discussion-on-rethinking-performance-management-post-covid/
CATEGORIES:Seminar & Conference
ATTACH;FMTTYPE=image/jpeg:https://fmafaridabad.com/wp-content/uploads/2020/08/IMG-20200828-WA0070.jpg
END:VEVENT
BEGIN:VEVENT
DTSTART;TZID=Asia/Kolkata:20200827T180000
DTEND;TZID=Asia/Kolkata:20200827T180000
DTSTAMP:20260424T220525
CREATED:20200822T103347Z
LAST-MODIFIED:20200822T103347Z
UID:655-1598551200-1598551200@fmafaridabad.com
SUMMARY:Webinar on Using Linkedin to Increase Your Visibility and Credibility
DESCRIPTION:Speaker:\nMs. Divya Shlokam\nCEO & Founder\, Business Coach\nJob to Business Transition Coach\nPersonal Branding & Executive Coach\, Divya Shlokam Media \n 
URL:https://fmafaridabad.com/event/webinar-on-using-linkedin-to-increase-your-visibility-and-credibility/
CATEGORIES:Seminar & Conference
ATTACH;FMTTYPE=image/jpeg:https://fmafaridabad.com/wp-content/uploads/2020/08/IMG-20200822-WA0033.jpg
END:VEVENT
BEGIN:VEVENT
DTSTART;TZID=Asia/Kolkata:20200823T110000
DTEND;TZID=Asia/Kolkata:20200823T110000
DTSTAMP:20260424T220525
CREATED:20200822T102737Z
LAST-MODIFIED:20200822T102737Z
UID:651-1598180400-1598180400@fmafaridabad.com
SUMMARY:Career Counselling Webinar For BBA Programmes
DESCRIPTION:
URL:https://fmafaridabad.com/event/career-counselling-webinar-for-bba-programmes/
CATEGORIES:Seminar & Conference
ATTACH;FMTTYPE=image/jpeg:https://fmafaridabad.com/wp-content/uploads/2020/08/AUG-23-COUNSELLING-FLYER-scaled.jpg
END:VEVENT
BEGIN:VEVENT
DTSTART;TZID=Asia/Kolkata:20200822T170000
DTEND;TZID=Asia/Kolkata:20200822T180000
DTSTAMP:20260424T220525
CREATED:20200820T193420Z
LAST-MODIFIED:20200820T193420Z
UID:606-1598115600-1598119200@fmafaridabad.com
SUMMARY:How To Leverage Social Media For Ecommerce Marketing?
DESCRIPTION:Speakers: \nMr. Mahesh Balakrishnan\nDirector\nHuman Touch\, Singapore \nAnamika Sharma\nSocial Media Manager\nPeoplebridge
URL:https://fmafaridabad.com/event/how-to-leverage-social-media-for-ecommerce-marketing/
CATEGORIES:Seminar & Conference
ATTACH;FMTTYPE=image/jpeg:https://fmafaridabad.com/wp-content/uploads/2020/08/IMG-20200820-WA0051.jpg
END:VEVENT
BEGIN:VEVENT
DTSTART;TZID=Asia/Kolkata:20200821T180000
DTEND;TZID=Asia/Kolkata:20200821T190000
DTSTAMP:20260424T220525
CREATED:20200818T143342Z
LAST-MODIFIED:20200818T143342Z
UID:599-1598032800-1598036400@fmafaridabad.com
SUMMARY:Webinar on Y-LEAGUE: Navigate To Future
DESCRIPTION:
URL:https://fmafaridabad.com/event/webinar-on-y-league-navigate-to-future/
CATEGORIES:Seminar & Conference
ATTACH;FMTTYPE=image/jpeg:https://fmafaridabad.com/wp-content/uploads/2020/08/IMG-20200818-WA0058.jpg
END:VEVENT
BEGIN:VEVENT
DTSTART;TZID=Asia/Kolkata:20200809T170000
DTEND;TZID=Asia/Kolkata:20200809T180000
DTSTAMP:20260424T220525
CREATED:20200808T041246Z
LAST-MODIFIED:20200808T041246Z
UID:593-1596992400-1596996000@fmafaridabad.com
SUMMARY:Webinar on Go GIG: GO AGILE
DESCRIPTION:
URL:https://fmafaridabad.com/event/webinar-on-go-gig-go-agile/
CATEGORIES:Seminar & Conference
ATTACH;FMTTYPE=image/jpeg:https://fmafaridabad.com/wp-content/uploads/2020/08/IMG-20200808-WA0001.jpg
END:VEVENT
BEGIN:VEVENT
DTSTART;TZID=Asia/Kolkata:20200808T050000
DTEND;TZID=Asia/Kolkata:20200808T190000
DTSTAMP:20260424T220525
CREATED:20200808T040842Z
LAST-MODIFIED:20200808T040842Z
UID:589-1596862800-1596913200@fmafaridabad.com
SUMMARY:Interactive Session on Innovation for Business Transformation
DESCRIPTION:Interactive Session on Innovation for Business Transformation \n“Why Walk\, When You Can Run?”
URL:https://fmafaridabad.com/event/interactive-session-on-innovation-for-business-transformation/
CATEGORIES:Seminar & Conference
ATTACH;FMTTYPE=image/jpeg:https://fmafaridabad.com/wp-content/uploads/2020/08/IMG-20200808-WA0002-compressed.jpg
END:VEVENT
BEGIN:VEVENT
DTSTART;TZID=Asia/Kolkata:20200802T113000
DTEND;TZID=Asia/Kolkata:20200802T130000
DTSTAMP:20260424T220525
CREATED:20200820T193821Z
LAST-MODIFIED:20200820T193821Z
UID:609-1596367800-1596373200@fmafaridabad.com
SUMMARY:Panel Discussion On : Unleashing Growth Opportunities Using Design Thinking
DESCRIPTION:
URL:https://fmafaridabad.com/event/panel-discussion-on-unleashing-growth-opportunities-using-design-thinking/
CATEGORIES:Seminar & Conference
ATTACH;FMTTYPE=image/jpeg:https://fmafaridabad.com/wp-content/uploads/2020/08/IMG-20200820-WA0036.jpg
END:VEVENT
BEGIN:VEVENT
DTSTART;TZID=Asia/Kolkata:20200801T113000
DTEND;TZID=Asia/Kolkata:20200801T123000
DTSTAMP:20260424T220525
CREATED:20200730T040028Z
LAST-MODIFIED:20200730T040334Z
UID:585-1596281400-1596285000@fmafaridabad.com
SUMMARY:Why Good People Have Bad Times
DESCRIPTION:Speaker \nShriman Rambhadra Das \nMeditation Coach | Life Coach | Bhakti Yoga Teacher \nPresident – Iskcon\, Gurugram \n 
URL:https://fmafaridabad.com/event/why-good-people-have-bad-times/
CATEGORIES:Seminar & Conference
ATTACH;FMTTYPE=image/jpeg:https://fmafaridabad.com/wp-content/uploads/2020/07/IMG-20200730-WA0004.jpg
END:VEVENT
BEGIN:VEVENT
DTSTART;TZID=Asia/Kolkata:20200730T133000
DTEND;TZID=Asia/Kolkata:20200730T163000
DTSTAMP:20260424T220525
CREATED:20200730T035755Z
LAST-MODIFIED:20200730T040057Z
UID:581-1596115800-1596126600@fmafaridabad.com
SUMMARY:HR Employ ability Conclave  Virtual Meet Corporate Expectation & Challenge  Post Covid 19
DESCRIPTION:
URL:https://fmafaridabad.com/event/hr-employ-ability-conclave-virtual-meet-corporate-expectation-challenge-post-covid-19/
CATEGORIES:Seminar & Conference
ATTACH;FMTTYPE=image/jpeg:https://fmafaridabad.com/wp-content/uploads/2020/07/IMG-20200730-WA0003.jpg
END:VEVENT
BEGIN:VEVENT
DTSTART;VALUE=DATE:20200725
DTEND;VALUE=DATE:20200726
DTSTAMP:20260424T220525
CREATED:20200820T194751Z
LAST-MODIFIED:20200820T194751Z
UID:615-1595635200-1595721599@fmafaridabad.com
SUMMARY:Webinar to enhance on 10 Pillars Of Omnilife
DESCRIPTION:Exclusive Webinar by Renowned Speaker\nMr. Anil Chopra\nGroup Director Financial Well Being and Corporate Affairs
URL:https://fmafaridabad.com/event/webinar-to-enhance-on-10-pillars-of-omnilife/
CATEGORIES:Seminar & Conference
ATTACH;FMTTYPE=image/jpeg:https://fmafaridabad.com/wp-content/uploads/2020/08/IMG-20200820-WA0038.jpg
END:VEVENT
BEGIN:VEVENT
DTSTART;TZID=Asia/Kolkata:20200719T113000
DTEND;TZID=Asia/Kolkata:20200719T130000
DTSTAMP:20260424T220525
CREATED:20200820T195026Z
LAST-MODIFIED:20200820T195026Z
UID:618-1595158200-1595163600@fmafaridabad.com
SUMMARY:Myths About Meditation
DESCRIPTION:
URL:https://fmafaridabad.com/event/myths-about-meditation/
CATEGORIES:Seminar & Conference
ATTACH;FMTTYPE=image/jpeg:https://fmafaridabad.com/wp-content/uploads/2020/08/IMG-20200820-WA0039.jpg
END:VEVENT
BEGIN:VEVENT
DTSTART;TZID=Asia/Kolkata:20200718T180000
DTEND;TZID=Asia/Kolkata:20200718T190000
DTSTAMP:20260424T220525
CREATED:20200820T194114Z
LAST-MODIFIED:20200820T194114Z
UID:612-1595095200-1595098800@fmafaridabad.com
SUMMARY:Live Webinar: Leadership In Turbulent Times
DESCRIPTION:
URL:https://fmafaridabad.com/event/live-webinar-leadership-in-turbulent-times/
CATEGORIES:Seminar & Conference
ATTACH;FMTTYPE=image/jpeg:https://fmafaridabad.com/wp-content/uploads/2020/08/IMG-20200820-WA0037.jpg
END:VEVENT
BEGIN:VEVENT
DTSTART;TZID=Asia/Kolkata:20200711T160000
DTEND;TZID=Asia/Kolkata:20200711T173000
DTSTAMP:20260424T220525
CREATED:20200820T195242Z
LAST-MODIFIED:20200820T195242Z
UID:621-1594483200-1594488600@fmafaridabad.com
SUMMARY:A Virtual Webinar On: Post Covid : IR/ER Framework
DESCRIPTION:
URL:https://fmafaridabad.com/event/a-virtual-webinar-on-post-covid-ir-er-framework/
CATEGORIES:Seminar & Conference
ATTACH;FMTTYPE=image/jpeg:https://fmafaridabad.com/wp-content/uploads/2020/08/IMG-20200820-WA0040.jpg
END:VEVENT
BEGIN:VEVENT
DTSTART;TZID=Asia/Kolkata:20200627T173000
DTEND;TZID=Asia/Kolkata:20200627T190000
DTSTAMP:20260424T220525
CREATED:20200821T063706Z
LAST-MODIFIED:20200821T063706Z
UID:630-1593279000-1593284400@fmafaridabad.com
SUMMARY:Panel Discussion On Post COVID Challenges and Strategies
DESCRIPTION:Our Distinguished Panelists: \nDr. Alka Mittal\nDirector – HR\, ONGC \nMr. Nikhil Jain\nDirector – HR\, NHPC \nDr. C Jayakumar\nVP & Head-Corporate HR\, L&T \nMr. Vijay Sethi\nCHRO\, CIO & Head CSR\, Hero Motocorp
URL:https://fmafaridabad.com/event/panel-discussion-on-post-covid-challenges-and-strategies/
CATEGORIES:Seminar & Conference
ATTACH;FMTTYPE=image/jpeg:https://fmafaridabad.com/wp-content/uploads/2020/08/IMG-20200626-WA0086.jpg
END:VEVENT
BEGIN:VEVENT
DTSTART;TZID=Asia/Kolkata:20200627T080000
DTEND;TZID=Asia/Kolkata:20200701T170000
DTSTAMP:20260424T220525
CREATED:20200821T064530Z
LAST-MODIFIED:20200821T064735Z
UID:634-1593244800-1593622800@fmafaridabad.com
SUMMARY:5 Days BFSI Conclave-Cum-FDP on New Frontiers and Skill Development in Banking\, Financial Services and Insurance (BFSI) Industry through and Post Covid 2019
DESCRIPTION:
URL:https://fmafaridabad.com/event/5-days-bfsi-conclave-cum-fdp-on-new-frontiers-and-skill-development-in-banking-financial-services-and-insurance-bfsi-industry-through-and-post-covid-2019/
CATEGORIES:Conclave
ATTACH;FMTTYPE=image/jpeg:https://fmafaridabad.com/wp-content/uploads/2020/08/BFSI-CONCLAVE-June-27-July-1-2020.jpg
END:VEVENT
BEGIN:VEVENT
DTSTART;TZID=Asia/Kolkata:20200626T170000
DTEND;TZID=Asia/Kolkata:20200626T183000
DTSTAMP:20260424T220525
CREATED:20200821T062949Z
LAST-MODIFIED:20200821T062949Z
UID:624-1593190800-1593196200@fmafaridabad.com
SUMMARY:Panel Discussion on Job Skills Post COVID
DESCRIPTION:
URL:https://fmafaridabad.com/event/panel-discussion-on-job-skills-post-covid/
CATEGORIES:Seminar & Conference
ATTACH;FMTTYPE=image/jpeg:https://fmafaridabad.com/wp-content/uploads/2020/08/IMG-20200625-WA0045.jpg
END:VEVENT
BEGIN:VEVENT
DTSTART;TZID=Asia/Kolkata:20200624T173000
DTEND;TZID=Asia/Kolkata:20200624T190000
DTSTAMP:20260424T220525
CREATED:20200821T063923Z
LAST-MODIFIED:20200821T064029Z
UID:632-1593019800-1593025200@fmafaridabad.com
SUMMARY:Live Webinar on Build Real Rapport in the Virtual World
DESCRIPTION:
URL:https://fmafaridabad.com/event/live-webinar-on-build-real-rapport-in-the-virtual-world/
CATEGORIES:Seminar & Conference
ATTACH;FMTTYPE=image/jpeg:https://fmafaridabad.com/wp-content/uploads/2020/08/IMG-20200624-WA0013.jpg
END:VEVENT
BEGIN:VEVENT
DTSTART;TZID=Asia/Kolkata:20200620T113000
DTEND;TZID=Asia/Kolkata:20200620T123000
DTSTAMP:20260424T220525
CREATED:20200826T064753Z
LAST-MODIFIED:20200826T064753Z
UID:697-1592652600-1592656200@fmafaridabad.com
SUMMARY:Relief Relax Rejoice With Laughter Yoga By Dr. Harish Rawat
DESCRIPTION:
URL:https://fmafaridabad.com/event/relief-relax-rejoice-with-laughter-yoga-by-dr-harish-rawat/
CATEGORIES:Seminar & Conference
ATTACH;FMTTYPE=image/jpeg:https://fmafaridabad.com/wp-content/uploads/2020/08/Relief-relax-rejoice-with-laughter-yoga.jpg
END:VEVENT
BEGIN:VEVENT
DTSTART;TZID=Asia/Kolkata:20200611T180000
DTEND;TZID=Asia/Kolkata:20200611T200000
DTSTAMP:20260424T220525
CREATED:20200822T113114Z
LAST-MODIFIED:20200822T113114Z
UID:677-1591898400-1591905600@fmafaridabad.com
SUMMARY:Winning Through Content at Linkedin
DESCRIPTION:
URL:https://fmafaridabad.com/event/winning-through-content-at-linkedin/
CATEGORIES:Seminar & Conference
END:VEVENT
BEGIN:VEVENT
DTSTART;TZID=Asia/Kolkata:20200609T173000
DTEND;TZID=Asia/Kolkata:20200609T183000
DTSTAMP:20260424T220525
CREATED:20200826T105455Z
LAST-MODIFIED:20200826T105520Z
UID:701-1591723800-1591727400@fmafaridabad.com
SUMMARY:Webinar on Compassionate Leadership
DESCRIPTION:
URL:https://fmafaridabad.com/event/webinar-on-compassionate-leadership/
CATEGORIES:Seminar & Conference
ATTACH;FMTTYPE=image/jpeg:https://fmafaridabad.com/wp-content/uploads/2020/08/IMG-20200826-WA0029.jpg
END:VEVENT
BEGIN:VEVENT
DTSTART;TZID=Asia/Kolkata:20200603T110000
DTEND;TZID=Asia/Kolkata:20200603T110000
DTSTAMP:20260424T220525
CREATED:20200822T112934Z
LAST-MODIFIED:20200822T112934Z
UID:675-1591182000-1591182000@fmafaridabad.com
SUMMARY:Webinar on Shifting from Isolation to Integration: The Need Of The Hour
DESCRIPTION:Keynote Speaker\n\nMr Subhash Jagota\nJabro Advertising And Marketing. \nMr. Sanjiv Nanda\nDirector\nNational Skills Institute
URL:https://fmafaridabad.com/event/webinar-on-shifting-from-isolation-to-integration-the-need-of-the-hour/
CATEGORIES:Seminar & Conference
ATTACH;FMTTYPE=image/jpeg:https://fmafaridabad.com/wp-content/uploads/2020/08/IMG-20200602-WA0058.jpg
END:VEVENT
BEGIN:VEVENT
DTSTART;TZID=Asia/Kolkata:20200601T180000
DTEND;TZID=Asia/Kolkata:20200601T193000
DTSTAMP:20260424T220525
CREATED:20200822T112423Z
LAST-MODIFIED:20200822T112423Z
UID:673-1591034400-1591039800@fmafaridabad.com
SUMMARY:Virtual Dialogue Alternate Career Readiness Beyond the Job
DESCRIPTION:
URL:https://fmafaridabad.com/event/virtual-dialogue-alternate-career-readiness-beyond-the-job/
CATEGORIES:Seminar & Conference
ATTACH;FMTTYPE=image/jpeg:https://fmafaridabad.com/wp-content/uploads/2020/08/IMG-20200529-WA0040.jpg
END:VEVENT
BEGIN:VEVENT
DTSTART;TZID=Asia/Kolkata:20200528T170000
DTEND;TZID=Asia/Kolkata:20200528T180000
DTSTAMP:20260424T220525
CREATED:20200521T040715Z
LAST-MODIFIED:20200521T040834Z
UID:579-1590685200-1590688800@fmafaridabad.com
SUMMARY:Building Your Online Brand in Today's Virtual Scenario
DESCRIPTION:Speaker- Ms. Devapriya Khanna\, CEO -212 Degrees Brand Lab
URL:https://fmafaridabad.com/event/building-your-online-brand-in-todays-virtual-scenario/
CATEGORIES:Seminar & Conference
END:VEVENT
BEGIN:VEVENT
DTSTART;TZID=Asia/Kolkata:20200525T170000
DTEND;TZID=Asia/Kolkata:20200525T180000
DTSTAMP:20260424T220525
CREATED:20200822T111136Z
LAST-MODIFIED:20200822T111150Z
UID:668-1590426000-1590429600@fmafaridabad.com
SUMMARY:Respecting Diversity: The Many Hues
DESCRIPTION:
URL:https://fmafaridabad.com/event/respecting-diversity-the-many-hues/
CATEGORIES:Seminar & Conference
ATTACH;FMTTYPE=image/jpeg:https://fmafaridabad.com/wp-content/uploads/2020/08/IMG-20200523-WA0046.jpg
END:VEVENT
BEGIN:VEVENT
DTSTART;TZID=Asia/Kolkata:20200525T160000
DTEND;TZID=Asia/Kolkata:20200525T170000
DTSTAMP:20260424T220525
CREATED:20200822T112150Z
LAST-MODIFIED:20200822T112150Z
UID:671-1590422400-1590426000@fmafaridabad.com
SUMMARY:Webinar on High Impact Virtual Presentations
DESCRIPTION:By Preeti Subberwal\nFounder Thoughtful Engagement
URL:https://fmafaridabad.com/event/webinar-on-high-impact-virtual-presentations/
CATEGORIES:Seminar & Conference
ATTACH;FMTTYPE=image/jpeg:https://fmafaridabad.com/wp-content/uploads/2020/08/IMG-20200524-WA0070.jpg
END:VEVENT
BEGIN:VEVENT
DTSTART;TZID=Asia/Kolkata:20200521T170000
DTEND;TZID=Asia/Kolkata:20200521T180000
DTSTAMP:20260424T220525
CREATED:20200521T040150Z
LAST-MODIFIED:20200521T040150Z
UID:576-1590080400-1590084000@fmafaridabad.com
SUMMARY:Rebooting People And Processes to Boost Performance with Pride
DESCRIPTION:Speaker – Mr. D.K. Bakshi\, Chief Mentor & CEO\, Global Talent Company
URL:https://fmafaridabad.com/event/rebooting-people-and-processes-to-boost-performance-with-pride/
CATEGORIES:Seminar & Conference
ATTACH;FMTTYPE=image/jpeg:https://fmafaridabad.com/wp-content/uploads/2020/05/Event-21stMay-DKBakshiRebootingPeopleProcessestoBoostPerformancewithPride.jpg
END:VEVENT
BEGIN:VEVENT
DTSTART;TZID=Asia/Kolkata:20200518T170000
DTEND;TZID=Asia/Kolkata:20200518T180000
DTSTAMP:20260424T220525
CREATED:20200514T062621Z
LAST-MODIFIED:20200514T062621Z
UID:570-1589821200-1589824800@fmafaridabad.com
SUMMARY:Managing Team With Remote Leadership Skills
DESCRIPTION:
URL:https://fmafaridabad.com/event/managing-team-with-remote-leadership-skills/
CATEGORIES:Seminar & Conference
ATTACH;FMTTYPE=image/jpeg:https://fmafaridabad.com/wp-content/uploads/2020/05/Event-FMA-18thMay-Anubha-5-6Pm.jpg
END:VEVENT
END:VCALENDAR