BEGIN:VCALENDAR
VERSION:2.0
PRODID:-//Faridabad Management Association - ECPv6.11.2//NONSGML v1.0//EN
CALSCALE:GREGORIAN
METHOD:PUBLISH
X-ORIGINAL-URL:https://fmafaridabad.com
X-WR-CALDESC:Events for Faridabad Management Association
REFRESH-INTERVAL;VALUE=DURATION:PT1H
X-Robots-Tag:noindex
X-PUBLISHED-TTL:PT1H
BEGIN:VTIMEZONE
TZID:Asia/Kolkata
BEGIN:STANDARD
TZOFFSETFROM:+0530
TZOFFSETTO:+0530
TZNAME:IST
DTSTART:20200101T000000
END:STANDARD
END:VTIMEZONE
BEGIN:VTIMEZONE
TZID:UTC
BEGIN:STANDARD
TZOFFSETFROM:+0000
TZOFFSETTO:+0000
TZNAME:UTC
DTSTART:20160101T000000
END:STANDARD
END:VTIMEZONE
BEGIN:VEVENT
DTSTART;TZID=Asia/Kolkata:20200425T180000
DTEND;TZID=Asia/Kolkata:20200425T190000
DTSTAMP:20260425T042540
CREATED:20200512T055653Z
LAST-MODIFIED:20200512T055917Z
UID:555-1587837600-1587841200@fmafaridabad.com
SUMMARY:Being Happy\, Focused And Fearless During Tough Times
DESCRIPTION:
URL:https://fmafaridabad.com/event/being-happy-focused-and-fearless-during-tough-times/
CATEGORIES:Seminar & Conference
ATTACH;FMTTYPE=image/jpeg:https://fmafaridabad.com/wp-content/uploads/2020/05/FMA-Event-25thApril2020.jpg
END:VEVENT
BEGIN:VEVENT
DTSTART;TZID=Asia/Kolkata:20200215T103000
DTEND;TZID=Asia/Kolkata:20200215T123000
DTSTAMP:20260425T042540
CREATED:20200822T115828Z
LAST-MODIFIED:20240420T102717Z
UID:679-1581762600-1581769800@fmafaridabad.com
SUMMARY:National Management Day
DESCRIPTION:
URL:https://fmafaridabad.com/event/national-management-day/
CATEGORIES:Seminar & Conference
ATTACH;FMTTYPE=image/jpeg:https://fmafaridabad.com/wp-content/uploads/2020/08/IMG-20200212-WA0007.jpg
END:VEVENT
BEGIN:VEVENT
DTSTART;TZID=Asia/Kolkata:20200131T140000
DTEND;TZID=Asia/Kolkata:20200131T170000
DTSTAMP:20260425T042540
CREATED:20191230T043915Z
LAST-MODIFIED:20240420T102552Z
UID:526-1580479200-1580490000@fmafaridabad.com
SUMMARY:Conference on  Productivity\, Cost and Quality Challenges of MSME Sector
DESCRIPTION:
URL:https://fmafaridabad.com/event/conference-on-productivity-cost-and-quality-challenges-of-msme-sector/
LOCATION:J.C. Bose YMCA University of Science & Technology\, Faridabad\, Haryana\, 121005\, India
CATEGORIES:Seminar & Conference
END:VEVENT
BEGIN:VEVENT
DTSTART;TZID=Asia/Kolkata:20200118T140000
DTEND;TZID=Asia/Kolkata:20200118T170000
DTSTAMP:20260425T042540
CREATED:20191230T043712Z
LAST-MODIFIED:20240420T102427Z
UID:522-1579356000-1579366800@fmafaridabad.com
SUMMARY:Employability Skills for Future Work Places - Challenges & Oppurtunities
DESCRIPTION:
URL:https://fmafaridabad.com/event/employability-skills-for-future-work-places-challenges-oppurtunities/
LOCATION:MVN University\,  Palwal
CATEGORIES:Seminar & Conference
END:VEVENT
BEGIN:VEVENT
DTSTART;TZID=UTC:20190927T140000
DTEND;TZID=UTC:20190927T170000
DTSTAMP:20260425T042540
CREATED:20190923T004510Z
LAST-MODIFIED:20190926T065719Z
UID:403-1569592800-1569603600@fmafaridabad.com
SUMMARY:HR Conclave on "Impact of Technology on People Management" and "Employability under Current Education System"
DESCRIPTION:Block Your Seat for two power-packed sessions at HR Conclave : “Impact of Technology on People Management” and “Employability under Current Education System” on Friday\, 27th September 2019 (2 pm to 5 pm) at Manav Rachna Campus\, Faridabad \nRegister Now
URL:https://fmafaridabad.com/event/hr-conclave-on-impact-of-technology-on-people-management-and-employ-ability-under-current-education-system/
LOCATION:Manav Rachna International Isntitute of Research and Studies (Deemed University)\, Sector 43- Aravali Hill\, Delhi Surajkund Road\, Faridabad\, Haryana\, 121004\, India
CATEGORIES:Seminar & Conference
ATTACH;FMTTYPE=image/jpeg:https://fmafaridabad.com/wp-content/uploads/2019/09/IMG-20190923-WA0012.jpg
END:VEVENT
BEGIN:VEVENT
DTSTART;TZID=UTC:20190803T143000
DTEND;TZID=UTC:20190803T170000
DTSTAMP:20260425T042540
CREATED:20190916T013257Z
LAST-MODIFIED:20240420T101942Z
UID:240-1564842600-1564851600@fmafaridabad.com
SUMMARY:Seminar on “Managing Employees In A Digital Era”
DESCRIPTION:Faridabad Management Association in collaboration with TAP-DC Faridabad organized a Seminar on “MANAGING EMPLOYEES IN DIGITAL ERA – Challenges & Opportunities on 3rd August 2019 (Saturday)  from 2.30 to 5.00 Pm.   The Program Started with an Inaugural Address by Mr. Abhay Kapoor\,  President\, Faridabad Management Association. The Speakers were  Mr.  Deepak Bharara – CHRO\, Lanco also a Moderator\,   Mr. Nitin Agarwal\, Lead  HR Operations – Fluor Daniel\,   Mr. Ajay Sahoo – Influer Resource\,  Humane Solutions LLP\, Mr. Abhishek Kapoor – Software Engineer – Juxt Smart Mandate (JSM).  It was attended by about 40 participants from various industries from Faridabad. \n 
URL:https://fmafaridabad.com/event/seminar-on-managing-employees-in-a-digital-era/
LOCATION:TAP- DC Faridabad\, Faridabad\, Haryana\, 121005\, India
CATEGORIES:Seminar & Conference
ATTACH;FMTTYPE=image/jpeg:https://fmafaridabad.com/wp-content/uploads/2019/09/IMG-20190912-WA0079.jpg
END:VEVENT
BEGIN:VEVENT
DTSTART;TZID=UTC:20190224T140000
DTEND;TZID=UTC:20190224T170000
DTSTAMP:20260425T042540
CREATED:20190916T014839Z
LAST-MODIFIED:20240420T101840Z
UID:243-1551016800-1551027600@fmafaridabad.com
SUMMARY:Conference on  “Innovation In The Age Of Disruption”
DESCRIPTION:Faridabad Management Association celebrated the National Management Day in  Collaboration with Dr. J.C. Bose YMCA University of Science and Technology.  Theme Address on “Innovation in the Age of Disruption” was given by the Guest of Honour  Mr. Vishal Lalani – Managing Director – Vee Three  Us and Indication Instrument\, Faridabad. Thereafter there we a Career workshop by Mr. Abhay Kapoor\,  President FMA & Head HR Northern Region\, Amazon\,  Ms. Anubha Maurya Walia\, Founder & Director – Prism World and  Mr. Subhash Jagota\,  CEO – Global Business Solutions.  Prof.  Arvind Gupta\, Dean\, Department of Management Studies & Prof. Ashutosh Nigam Chairman-Department of Management Studies Presided over the function. It was attended by 180 participants from Industry as well as Faculty & Students of Dr. J.C. Bose YMCA University of Science & Technology.
URL:https://fmafaridabad.com/event/conference-on-innovation-in-the-age-of-disruption/
LOCATION:J.C. Bose YMCA University of Science & Technology\, Faridabad\, Haryana\, 121005\, India
CATEGORIES:Seminar & Conference
END:VEVENT
BEGIN:VEVENT
DTSTART;TZID=UTC:20181201T143000
DTEND;TZID=UTC:20181201T170000
DTSTAMP:20260425T042540
CREATED:20190916T015530Z
LAST-MODIFIED:20240420T101706Z
UID:245-1543674600-1543683600@fmafaridabad.com
SUMMARY:Conference on “Emerging Role Of Hr In The Contemporary World”
DESCRIPTION:Faridabad Management Association in collaboration with TAP DC conducted an HR Meet.  Ms. Charu Malhotra\, CEO- Tap DC welcomed the Guests\,  Mr. Abhay Kapoor\, President FMA & Head HR\, Northern Region gave an FMA welcome Address. The program started with Mr. P. Dwarknath – Non-Executive Chairman of  GSK speaking about ‘Emerging Role of HR in the Contemporary world’ followed by  Mr. Sandeep Tyagi\, Director – HR – Samsung on ‘Future Work Places’. It was summed up by Mr. J.P. Malhotra Chairman – TAP DC & President – DlF Industries. Finally\, a hearty vote of thanks was given by Mr. V. Thyagarajan\, Hon Executive Director\, Faridabad Management Association. In all\, there were 35 participants from the Industry. \n\n			\n				\n			\n			\n				\n			\n			\n				\n			\n			\n				\n			\n			\n				\n			\n			\n				\n			\n			\n				\n			\n			\n				\n			\n			\n				\n			\n			\n				\n			\n			\n				\n			\n			\n				\n			\n			\n				\n			\n			\n				\n			\n			\n				\n			\n			\n				\n			\n			\n				\n			\n			\n				\n			\n			\n				\n			\n			\n				\n			\n			\n				\n			\n			\n				\n			\n			\n				\n			\n			\n				\n			\n			\n				\n			\n		\n\n\nhttp://fmafaridabad-com.stackstaging.com/wp-content/uploads/2019/09/VID-20190916-WA0023.mp4
URL:https://fmafaridabad.com/event/conference-on-emerging-role-of-hr-in-the-contemporary-world/
LOCATION:TAP- DC Faridabad\, Faridabad\, Haryana\, 121005\, India
CATEGORIES:Seminar & Conference
ATTACH;FMTTYPE=image/jpeg:https://fmafaridabad.com/wp-content/uploads/2019/09/emerging-role-in-HR-01-12-2018-20190916-WA0026.jpg
END:VEVENT
BEGIN:VEVENT
DTSTART;TZID=UTC:20180807T140000
DTEND;TZID=UTC:20180807T170000
DTSTAMP:20260425T042540
CREATED:20190916T015744Z
LAST-MODIFIED:20240420T101633Z
UID:247-1533650400-1533661200@fmafaridabad.com
SUMMARY:Workshop on  Effective Negotiations For Business Growth & Goals
DESCRIPTION:A  Workshop in collaboration with TAP-DC Faridabad was held on ” Effective Negotiations for Business Growth & Goals”  at Technology & Personality Development Centre ( TAP -DC)\, DLF Industrial Area\, Faridabad. Mr. Sushil Kumar\, Former IG of Police\,   Mr. Subhash Jagota\, Managing Director\, Jabro Advertising and Marketing\, & Mr. Harish Sharma\, Former VP HR – Indorama – West Africa. It was attended by around 40 Delegates from various Industries. Sessions were quite interactive. \nPhotographs Attached. L to R  – Mr. Sushil Kumar\, Former IG of Police\,  Mr. Subhash Jagota\, Managing Director\, Jabro Advertising & Marketing  & Mr. Harish Sharma\, Former Vice President – Human Resources – Indo Rama Group – West Africa.
URL:https://fmafaridabad.com/event/workshop-on-effective-negotiations-for-business-growth-goals/
LOCATION:TAP- DC Faridabad\, Faridabad\, Haryana\, 121005\, India
CATEGORIES:Workshops
ATTACH;FMTTYPE=image/jpeg:https://fmafaridabad.com/wp-content/uploads/2019/09/Business-Growth-Goals-07-08-2018-20190916-WA0032.jpg
END:VEVENT
BEGIN:VEVENT
DTSTART;TZID=UTC:20180224T100000
DTEND;TZID=UTC:20180224T140000
DTSTAMP:20260425T042540
CREATED:20190916T020409Z
LAST-MODIFIED:20240420T101502Z
UID:250-1519466400-1519480800@fmafaridabad.com
SUMMARY:Conclave on “PERSONAL LEADERSHIP”
DESCRIPTION:Faridabad Management Association  in collaboration with DAV Institute of Management \ncelebrated the Management  DAV Institute of  Management\, Faridabad.  Theme for the Event was “Personal Leadership”. \nThe Program started with Lighting of the Lamp. Welcome Address was given  by Mr. V. Thyagarajan\,\nHon Executive Director and Head – Corporate Resource Centre\, Apeejay Stya University.  Mr. Rakesh\nSeth\, Senior Director-HR Services\, REECOSYS was the first to speak and gave a wonderful Presentation\non  ” Personal Leadership”  and the Next Speaker was Ms. Anubha Maurya Walia\, Director\, Trainer\,\nOD Consultant – Prism World who gave a short and Sweet presentation on the Subject.  . \nA Book entitled  “A2Z 26 Steps for Assured Success” written by Dr. Sarbjit Singh (Former\nDean/Advisor of  Apeejay Stya University  was released by President – FMA Mr. Abhay Kapoor along \nwith Distinguished Speakers. \nFinal Speaker was  Mr. D.K. Bakshi\, Chief Mentor & CEO\, Global Talent Company Limited\, Bankok\n& Former Vice President Global Human Resources\, Indorama Polymers Public ltd.\, Bankok \ngave an extempore lecture and enthralled the Audience. Finally\, Dr. Neelam Gulati\, Head Of the\nInstitution\, DAV Institute of  Management summarised the Proceedings and  Vote of thanks was\ngiven by Mr. Abhay Kapoor\, President\, FMA & Head- HR Northern Region\, Amazon. \nIn all 100 participants attended the Management Day Celebrations including 30 Participants from \nthe Industry\, Faculties and Students.
URL:https://fmafaridabad.com/event/conclave-on-personal-leadership/
LOCATION:DAV Institute of Management\, Faridabad\, Faridabad\, Haryana\, India
CATEGORIES:Conclave
END:VEVENT
BEGIN:VEVENT
DTSTART;VALUE=DATE:20160916
DTEND;VALUE=DATE:20160917
DTSTAMP:20260425T042540
CREATED:20160602T005300Z
LAST-MODIFIED:20240420T101421Z
UID:119-1473984000-1474070399@fmafaridabad.com
SUMMARY:2nd HR Conclave in Collaboration with AIMA on 16th September 2016.
DESCRIPTION:This Conclave will be conducted in a Five Star Property. The above Programs have been Shared with FMA Members\, AIMA-FMA Members\nand the HR Fraternity.We must start thinking about the theme and also the speakers.We must start working now. This should also be part of Agenda for the 28th May s meeting.
URL:https://fmafaridabad.com/event/2nd-hr-conclave-in-collaboration-with-aima-on-16th-september-2016/
LOCATION:Faridabad\, Faridabad\, 121005\, India
CATEGORIES:Conclave
END:VEVENT
BEGIN:VEVENT
DTSTART;VALUE=DATE:20160722
DTEND;VALUE=DATE:20160723
DTSTAMP:20260425T042540
CREATED:20160523T033624Z
LAST-MODIFIED:20240420T101300Z
UID:26-1469145600-1469231999@fmafaridabad.com
SUMMARY:Workshop on " Key Account Management"  for  Marketing and Sales Professionals
DESCRIPTION:Workshop on ” Key Account Management” for Marketing and Sales Professionals from SMEs on 22nd July 2016 (Tentative Date) by Mr.\nDeepak Mahendru – Director\, Escorts Dealer Development Association Limited\, Faridabad.
URL:https://fmafaridabad.com/event/workshop-on-key-account-management-for-marketing-and-sales-professionals/
LOCATION:Faridabad\, Faridabad\, 121005\, India
CATEGORIES:Workshops
END:VEVENT
BEGIN:VEVENT
DTSTART;VALUE=DATE:20160629
DTEND;VALUE=DATE:20160630
DTSTAMP:20260425T042540
CREATED:20160523T035315Z
LAST-MODIFIED:20240420T101155Z
UID:38-1467158400-1467244799@fmafaridabad.com
SUMMARY:Workshop on "Train The Trainer"  by  Mr. Subash Jagota & Ms. Jaya Goyal
DESCRIPTION:Workshop on “Train The Trainer” by Mr. Subash Jagota & Ms. Jaya Goyal on 29th June 2016.
URL:https://fmafaridabad.com/event/workshop-on-train-the-trainer-by-mr-subash-jagota-ms-jaya-goyal/
LOCATION:Attrium Hotel\, Surjakund\, Faridabad\, Attrium Hotel\, Surjakund\, Faridabad\, Haryana\, 121005\, India
CATEGORIES:Workshops
END:VEVENT
END:VCALENDAR