BEGIN:VCALENDAR
VERSION:2.0
PRODID:-//Faridabad Management Association - ECPv6.11.2//NONSGML v1.0//EN
CALSCALE:GREGORIAN
METHOD:PUBLISH
X-ORIGINAL-URL:https://fmafaridabad.com
X-WR-CALDESC:Events for Faridabad Management Association
REFRESH-INTERVAL;VALUE=DURATION:PT1H
X-Robots-Tag:noindex
X-PUBLISHED-TTL:PT1H
BEGIN:VTIMEZONE
TZID:UTC
BEGIN:STANDARD
TZOFFSETFROM:+0000
TZOFFSETTO:+0000
TZNAME:UTC
DTSTART:20160101T000000
END:STANDARD
END:VTIMEZONE
BEGIN:VEVENT
DTSTART;VALUE=DATE:20160916
DTEND;VALUE=DATE:20160917
DTSTAMP:20260425T055526
CREATED:20160602T005300Z
LAST-MODIFIED:20240420T101421Z
UID:119-1473984000-1474070399@fmafaridabad.com
SUMMARY:2nd HR Conclave in Collaboration with AIMA on 16th September 2016.
DESCRIPTION:This Conclave will be conducted in a Five Star Property. The above Programs have been Shared with FMA Members\, AIMA-FMA Members\nand the HR Fraternity.We must start thinking about the theme and also the speakers.We must start working now. This should also be part of Agenda for the 28th May s meeting.
URL:https://fmafaridabad.com/event/2nd-hr-conclave-in-collaboration-with-aima-on-16th-september-2016/
LOCATION:Faridabad\, Faridabad\, 121005\, India
CATEGORIES:Conclave
END:VEVENT
BEGIN:VEVENT
DTSTART;VALUE=DATE:20160722
DTEND;VALUE=DATE:20160723
DTSTAMP:20260425T055526
CREATED:20160523T033624Z
LAST-MODIFIED:20240420T101300Z
UID:26-1469145600-1469231999@fmafaridabad.com
SUMMARY:Workshop on " Key Account Management"  for  Marketing and Sales Professionals
DESCRIPTION:Workshop on ” Key Account Management” for Marketing and Sales Professionals from SMEs on 22nd July 2016 (Tentative Date) by Mr.\nDeepak Mahendru – Director\, Escorts Dealer Development Association Limited\, Faridabad.
URL:https://fmafaridabad.com/event/workshop-on-key-account-management-for-marketing-and-sales-professionals/
LOCATION:Faridabad\, Faridabad\, 121005\, India
CATEGORIES:Workshops
END:VEVENT
BEGIN:VEVENT
DTSTART;VALUE=DATE:20160629
DTEND;VALUE=DATE:20160630
DTSTAMP:20260425T055526
CREATED:20160523T035315Z
LAST-MODIFIED:20240420T101155Z
UID:38-1467158400-1467244799@fmafaridabad.com
SUMMARY:Workshop on "Train The Trainer"  by  Mr. Subash Jagota & Ms. Jaya Goyal
DESCRIPTION:Workshop on “Train The Trainer” by Mr. Subash Jagota & Ms. Jaya Goyal on 29th June 2016.
URL:https://fmafaridabad.com/event/workshop-on-train-the-trainer-by-mr-subash-jagota-ms-jaya-goyal/
LOCATION:Attrium Hotel\, Surjakund\, Faridabad\, Attrium Hotel\, Surjakund\, Faridabad\, Haryana\, 121005\, India
CATEGORIES:Workshops
END:VEVENT
END:VCALENDAR